BEGIN:VCALENDAR
VERSION:2.0
PRODID:-//GunStuff TV - ECPv6.15.20//NONSGML v1.0//EN
CALSCALE:GREGORIAN
METHOD:PUBLISH
X-WR-CALNAME:GunStuff TV
X-ORIGINAL-URL:https://gunstuff.tv
X-WR-CALDESC:Events for GunStuff TV
REFRESH-INTERVAL;VALUE=DURATION:PT1H
X-Robots-Tag:noindex
X-PUBLISHED-TTL:PT1H
BEGIN:VTIMEZONE
TZID:UTC
BEGIN:STANDARD
TZOFFSETFROM:+0000
TZOFFSETTO:+0000
TZNAME:UTC
DTSTART:20250101T000000
END:STANDARD
END:VTIMEZONE
BEGIN:VEVENT
DTSTART;TZID=UTC:20260425T130000
DTEND;TZID=UTC:20260425T180000
DTSTAMP:20260424T083838
CREATED:20260421T200326Z
LAST-MODIFIED:20260421T200326Z
UID:10008350-1777122000-1777140000@gunstuff.tv
SUMMARY:DRPC NRL22 April 2026 Match
DESCRIPTION:Location:\nDRPC – 600 yard Range\n7171 Compress Road\nComo\, MS 38619\nStage and Round Count Info:  This month’s match will take place on the 600 yard Range consisting of Five (5) Stages plus a “Bonus Stage(s)” TBD. No More than 80 rounds to complete all COF.\nSetup:  7:00 – 8:00am (Volunteers are welcome to help setup).\nMatch Check-in: 8:00am\nZero Range Opens: 8:15am\nMandatory Safety Brief: 8:45am\nMatch Begins: 9:00am\nMatch Fee:	$25.00  Young Guns are free!\n	                NRL22 memberships is not required to shoot this match.\n——-CHAMBER FLAGS ARE MANDATORY ——–\nWe will be hosting the official NRL22 monthly courses of fire which consists of 5 stages plus the possibility of a couple bonus stages.  If you would like to see the official NRL22 stages for this month’s match\, visit https://nrl22.org/downloads/\nNew shooters are welcome and encouraged to attend. The goal of the NRL22 is to make Precision Rifle shooting more available to every community.  22LR is the only rimfire caliber allowed to compete in NRL22 so bring what you have and try out a match or come out and see how you’d like to setup your rifle for future matches.  Have you ever wanted to get into long range rifle shooting or learn how to accurately engage targets at longer distances?  NRL22 is a great opportunity to learn what tools and knowledge it takes to do exactly that.  All the skills you use in a NRL22 match can be carried over to centerfire rifles and help you confidently jump into those longer distances.\nNRL22 is designed to be fun and rewarding for youth shooters\, new shooters\, and also challenging enough for seasoned precision rifle shooters.  NRL22 monthly matches consist of 5 stages that are typically shot from distances ranging between 25-100 yards.  There is a good mix between prone stages\, barricade stages\, and positional stages.  Steel targets from 1/4” to 6”.  Shooting sequence and scoring will be established by the Match Director and will be clearly explained prior to each match during the shooters meeting and by the Range Officer prior to the start of each stage (match books may be distributed at check-in to explain each stage).  Match scores will be retained by the Match Director and posted on Practiscore and DR&PC Facebook page.\nThere are 8 divisions.\n1.  Open\n2.  Base (MSRP of rifle + MSRP of scope = $1650 or less)\n3.  Semi-Auto\n4.  Ladies\n5.  Young Guns (17 & younger)\n6.  Air Rifle\n7.  Old Guns (60+) Participants shoot the match COF as written.\n8.  Adaptive:  This is an optional division that will be available to any competitor that has special needs/considerations severely limiting their ability to participate in the match as written.\nRead more:	https://www.desotogunrange.com/NRL22ps\n                	https://nrl22.org/about/rules/\n	                https://nrl22.org/faq/\nAny questions Email us at:  NRL22ps@desotogunrange.com\nMatch Directors:\nTom Gevers\nMike Manna
URL:https://gunstuff.tv/event/drpc-nrl22-april-2026-match/
LOCATION:7171 Compress Road\, Como MS\, United States
END:VEVENT
END:VCALENDAR