BEGIN:VCALENDAR
VERSION:2.0
PRODID:-//GunStuff TV - ECPv6.15.20//NONSGML v1.0//EN
CALSCALE:GREGORIAN
METHOD:PUBLISH
X-WR-CALNAME:GunStuff TV
X-ORIGINAL-URL:https://gunstuff.tv
X-WR-CALDESC:Events for GunStuff TV
REFRESH-INTERVAL;VALUE=DURATION:PT1H
X-Robots-Tag:noindex
X-PUBLISHED-TTL:PT1H
BEGIN:VTIMEZONE
TZID:UTC
BEGIN:STANDARD
TZOFFSETFROM:+0000
TZOFFSETTO:+0000
TZNAME:UTC
DTSTART:20250101T000000
END:STANDARD
END:VTIMEZONE
BEGIN:VEVENT
DTSTART;TZID=UTC:20260425T150000
DTEND;TZID=UTC:20260425T210000
DTSTAMP:20260424T085537
CREATED:20260421T200314Z
LAST-MODIFIED:20260421T200314Z
UID:10008247-1777129200-1777150800@gunstuff.tv
SUMMARY:April 2026 OUTDOOR USPSA Match at the Houghton Lake Sportsman’s Club
DESCRIPTION:This is an OUTDOOR USPSA Match we have 6 challenging stages\, two of them will be classifiers.\nSign-in for the match will be from 10am to 10:45am. Shooters meeting will start at 10:45 in bay 6.  The match will start at 11am.\nFees: $20 for non-club members\, $10 for club members\, their friends and family. $5 discount for volunteer RO’s. $5 for an extra gun\, second registration is required. Club members will get work hours and an additional discount for helping with set up and tear down\, Match Directors discretion on the amount of the discount based on work effort.\n** Please bring exact change\, if possible.**\n150 to 200 rounds should be enough.\n**Remember to squad yourself after registering on PractiScore by scrolling down to show squad\n=================================================\nIf you are a USPSA Range Officer\, please consider volunteering to be assigned to a squad\, so we can ensure RO coverage in each squad. To do so\, squad yourself in squad “RO Volunteer “.\nThe range is cold during match day.  Please use the CPL table and safety tables as per USPSA guidelines.\nCarry your PCC cased between stages. Carry your cased PCC to and from the starting area with muzzle up.\nYou must use a rigid holster that permits holstering of your firearm with one hand only. The holster must completely cover your gun’s trigger guard.\n*** If the match is full\,  you may still register and be put onto a waitlist.\nYou will do well if you follow current USPSA rules for the match. We will not bypass a DQ just because it’s a level 1 match!
URL:https://gunstuff.tv/event/april-2026-outdoor-uspsa-match-at-the-houghton-lake-sportsmans-club/
LOCATION:6774 W. Nestel Road\, Houghton Lake\, MI\, United States
GEO:44.31242;-84.76241
END:VEVENT
END:VCALENDAR