BEGIN:VCALENDAR
VERSION:2.0
PRODID:-//GunStuff TV - ECPv6.15.20//NONSGML v1.0//EN
CALSCALE:GREGORIAN
METHOD:PUBLISH
X-WR-CALNAME:GunStuff TV
X-ORIGINAL-URL:https://gunstuff.tv
X-WR-CALDESC:Events for GunStuff TV
REFRESH-INTERVAL;VALUE=DURATION:PT1H
X-Robots-Tag:noindex
X-PUBLISHED-TTL:PT1H
BEGIN:VTIMEZONE
TZID:UTC
BEGIN:STANDARD
TZOFFSETFROM:+0000
TZOFFSETTO:+0000
TZNAME:UTC
DTSTART:20250101T000000
END:STANDARD
END:VTIMEZONE
BEGIN:VEVENT
DTSTART;TZID=UTC:20260412T150000
DTEND;TZID=UTC:20260412T230000
DTSTAMP:20260424T104546
CREATED:20260407T195450Z
LAST-MODIFIED:20260407T195450Z
UID:10007347-1776006000-1776034800@gunstuff.tv
SUMMARY:Socal Long Range - PIRU - Gas Gun  Match @ CTA April 12 2026
DESCRIPTION:>8 stages with yardages ranging from 150 to 600 yards.\n>Most stages will be between 1-4 targets\, and 1-5 positions.  20 shots max per stage.  Shooting from various barricades and positions. Be prepared with at least 160 rounds for the match and more for zero check or re-shoots.  A min-max round count for the match will be provided when the Course of Fire is finalized.\n>Scoring is time plus penalties for targets not hit.  90 second max time per stage\, 20 second penalty per target not hit.  So you score is the time (seconds) it took you to shoot all the targets with 20 shots maximum\, and a penalty of 20 seconds added per target you did not hit.\nThe shooting is from “flat range” conditions (but ground is uneven) up valleys and hills to the targets. Although in beautiful Southern California\, the weather can vary widely\, so be prepared for cold or warm conditions\, wet or dry.\nNo steel core ammunition will be allowed.\nTac Light- 223/556 Only\, Barrel 18.1” or less\, Optic 10x max if it has a 1X power on low end\nTac Heavy- 223/556 or 308/762\, Only\, Barrel 20.1” max\, Optic 18x max\nOpen- any caliber\, barrel 20.3” or longer\, Optic 20x or more\nBattle Rifle- 223/556 only\, Red Dot & Magnifier or Prism style up to 6x max\nSafety Requirements:\nAll gas guns must have a safety/chamber flag or safety magazine installed when not on the line and transporting between stages.\nAll gas guns must be bagged or cased when transported between your car to the stages.\nStages at Bay 30 and 31.\n0800 Check in Bay 30 You must first sign waiver at Pro Shop\nRifle zero after check in\n0830 Match Start\nMatch fee: $50
URL:https://gunstuff.tv/event/socal-long-range-piru-gas-gun-match-cta-april-12-2026/
LOCATION:6700 Holser Canyon Road\, Piru California\, United States
END:VEVENT
BEGIN:VEVENT
DTSTART;TZID=UTC:20260411T150000
DTEND;TZID=UTC:20260411T230000
DTSTAMP:20260424T104546
CREATED:20260407T195427Z
LAST-MODIFIED:20260407T195427Z
UID:10007139-1775919600-1775948400@gunstuff.tv
SUMMARY:SoCal Long Range Club - PRS Match PIRU April 11 2026
DESCRIPTION:BRING A FRIEND TO THEIR FIRST MATCH AND IT’S ONLY $20 FOR THEM.\n7 to 8 stages with yardages ranging from 200 to 1100 yards.\nMost stages will be between 10-12 rounds\, shooting\nfrom various barricades and positions. Be prepared with at least 100 rounds for the match and more for zero check or re-shoots.\nThe shooting is from “flat range” conditions (but ground is uneven) up valleys and hills to the targets. Although in beautiful Southern California\, the weather can vary widely\, so be prepared for cold or warm conditions\, wet or dry.\nNo steel core ammunition will be allowed.\nEquipment\nYou will need a rifle with an optic that will allow you to locate and engage targets\, and any other shooting gear you like to use. Rangefinders\, spotting scopes\, binoculars\, shooting rests are all acceptable.\nDivisions are either Semi-Auto or Manually Operated Rifle.\nSafety Requirements:\nAll long guns must have a safety/chamber flag installed when not on the line.\nAll long guns must be bagged or cased when transported between your car to the stages on the public range stages only.\nStages at Bay 30 and 31 and can be at the Public Range for 900 to 1060 yards.\n0700 Check in Bay 30 You must first sign waiver at Pro Shop\nRifle zero after check in\n0800 Match Start\nMatch fee: $50
URL:https://gunstuff.tv/event/socal-long-range-club-prs-match-piru-april-11-2026/
LOCATION:6700 Holser Canyon Road\, Piru California\, United States
END:VEVENT
END:VCALENDAR