BEGIN:VCALENDAR
VERSION:2.0
PRODID:-//GunStuff TV - ECPv6.15.20//NONSGML v1.0//EN
CALSCALE:GREGORIAN
METHOD:PUBLISH
X-WR-CALNAME:GunStuff TV
X-ORIGINAL-URL:https://gunstuff.tv
X-WR-CALDESC:Events for GunStuff TV
REFRESH-INTERVAL;VALUE=DURATION:PT1H
X-Robots-Tag:noindex
X-PUBLISHED-TTL:PT1H
BEGIN:VTIMEZONE
TZID:UTC
BEGIN:STANDARD
TZOFFSETFROM:+0000
TZOFFSETTO:+0000
TZNAME:UTC
DTSTART:20250101T000000
END:STANDARD
END:VTIMEZONE
BEGIN:VEVENT
DTSTART;TZID=UTC:20260425T150000
DTEND;TZID=UTC:20260425T220000
DTSTAMP:20260421T184813
CREATED:20260421T200338Z
LAST-MODIFIED:20260421T200338Z
UID:10008459-1777129200-1777154400@gunstuff.tv
SUMMARY:CAWB Hosefest
DESCRIPTION:Hosefest Match.\n Run and gun using ICORE rules. Centerfire revolver/pistol and PCC. For complete information see our club page and home page www.cawheelburners\n  This match has a minimum number shooters in order to happen.  If we don’t get enough shooters we will notify you by email of a cancelation. Match fee is paid on match day at the range.
URL:https://gunstuff.tv/event/cawb-hosefest/
LOCATION:6700 Holser Canyon\, Piru California\, United States
END:VEVENT
END:VCALENDAR