BEGIN:VCALENDAR
VERSION:2.0
PRODID:-//GunStuff TV - ECPv6.15.20//NONSGML v1.0//EN
CALSCALE:GREGORIAN
METHOD:PUBLISH
X-ORIGINAL-URL:https://gunstuff.tv
X-WR-CALDESC:Events for GunStuff TV
REFRESH-INTERVAL;VALUE=DURATION:PT1H
X-Robots-Tag:noindex
X-PUBLISHED-TTL:PT1H
BEGIN:VTIMEZONE
TZID:UTC
BEGIN:STANDARD
TZOFFSETFROM:+0000
TZOFFSETTO:+0000
TZNAME:UTC
DTSTART:20250101T000000
END:STANDARD
END:VTIMEZONE
BEGIN:VEVENT
DTSTART;TZID=UTC:20260411T160000
DTEND;TZID=UTC:20260411T220000
DTSTAMP:20260421T220711
CREATED:20260407T195424Z
LAST-MODIFIED:20260407T195424Z
UID:10007109-1775923200-1775944800@gunstuff.tv
SUMMARY:CAWB ICORE Match
DESCRIPTION:ICORE revolver match. Semi auto\, rimfire and PCC also welcome. — Advance registration not necessary or available –. Please see our club page and home page www.cawheelburners for more information.
URL:https://gunstuff.tv/event/cawb-icore-match/
LOCATION:6700 Holser Canyon\, Piru California\, United States
END:VEVENT
END:VCALENDAR