BEGIN:VCALENDAR
VERSION:2.0
PRODID:-//GunStuff TV - ECPv6.15.20//NONSGML v1.0//EN
CALSCALE:GREGORIAN
METHOD:PUBLISH
X-WR-CALNAME:GunStuff TV
X-ORIGINAL-URL:https://gunstuff.tv
X-WR-CALDESC:Events for GunStuff TV
REFRESH-INTERVAL;VALUE=DURATION:PT1H
X-Robots-Tag:noindex
X-PUBLISHED-TTL:PT1H
BEGIN:VTIMEZONE
TZID:UTC
BEGIN:STANDARD
TZOFFSETFROM:+0000
TZOFFSETTO:+0000
TZNAME:UTC
DTSTART:20250101T000000
END:STANDARD
END:VTIMEZONE
BEGIN:VEVENT
DTSTART;TZID=UTC:20260426T060000
DTEND;TZID=UTC:20260426T120000
DTSTAMP:20260421T172451
CREATED:20260421T200348Z
LAST-MODIFIED:20260421T200348Z
UID:10008542-1777183200-1777204800@gunstuff.tv
SUMMARY:V. Mekk Mester Kupa IPSC Handgun & PCC
DESCRIPTION:V. Mekk Mester Kupa Handgun & PCC\nIPSC – Level 2 verseny\n2026-04-26 Csongrád\nVerseny típusa: Pisztoly\nDivízió: IPSC Pisztoly – Production\, IPSC Pisztoly – Standard\, IPSC Pisztoly – Open\, IPSC Pisztoly – Production Optic\, IPSC Pisztoly – Classic\, IPSC Pisztoly – Revolver\, IPSC Pisztoly – Optics\nVerseny típusa: PCC\nDivízió: IPSC PCC – Pisztoly kaliberű puska – PCC OPTICS\, IPSC PCC – Pisztoly kaliberű puska – PCC IRON SIGHT\nSzervező:\nMester Lövész Sportegyesület\nVersenyigazgató: Zakupszky Gábor\nRange Master: Sötét Gábor\nHelyszín: Csongrád Shooting Range\nKapcsolat: Gabaipsc@gmail.com +36 70 337 6643\nIdőbeosztás:\n–          Regisztráció: április 26/vasárnap/ 8:00 – 8:45\n–          Verseny: április 26 /vasárnap/ 9:00 – 13:00\n–          Pre-match: április 25 /szombat/ 9:00 – 14:00\nRegisztráció: április 25 /szombat/ 8:00 – 8:45\nPályák száma: 7\nLövésszám: 130\nÉrtékelés: PractiScore programmal.\nNevezési díj előre utalással: 20.000Ft- pisztoly; 20\,000Ft – pcc\, a kettő együtt 32.000\,-Ft\nJunioroknak: 50%\nHa mindkét versenyen indulsz\, kérlek 2x regisztrálj!!!\nCsak előre utalással 2026.04.20-ig\nBelföldi utalás esetén\nBankszámla: Donka Imre 10405073-83535555-57571004\nIBAN: HU 70 10405073-83535555-57571004\nSWIFT: OKHBHUHB\nKülföldről:\nAccount owner: Donka Imre\nSWIFT / BIC: OKHBHUHB\nIBAN: HU32 1041 0400 0000 0100 5340 4470\nPrice: 50 EUR/ person\, for both disciplines 80 EUR/ person\nFor Juniors: 50%\nÉrtékelt divíziók: Standard\, Production\, Open\, Production Optics\, Classic\, Optics\nÉrtékelt kategóriák: Lady; Lady Senior\, Junior; Senior; Super Senior\, Grand Senior\nAz első három helyezett – 5 fő indulása esetén – érem díjazásban részesül.\nÉrtékelt divíziók: PCC Optics\, PCC Iron\,\nÉrtékelt kategóriák: Lady; Lady Senior\, Junior; Senior; Super Senior\, Grand Senior\nAz első három helyezett – 5 fő indulása esetén – érem díjazásban részesül\nIndulási feltételek: érvényes MDLSZ rajtengedély; érvényes sportorvosi engedély; legálisan birtokolt fegyver és IPSC licence.\nA helyszínen büfé fog üzemelni.\nA regisztrációval hozzájárulsz ahhoz\, hogy a rendező publikálja\, a regisztráció során megadott adataidat\, valamint továbbítsa ezeket és az elért eredményt az MDLSZ felé\, aki szintén közzéteszi ezeket az adatokat a honlapján és a közösségi oldalán. A regisztrációval továbbá hozzájárulsz\, hogy a versenyen kép és hangfelvétel készülhet rólad.\nLőtér tudnivalók:\n–          „B 1-2-3.” és a „C4” kategóriába tartozó rövid tűzfegyverek (pisztolyok) a\n–          „B4”  „C2” és „D” kategóriába tartozó hosszú huzagolt csövű (golyós) tűzfegyverek\n–          „D”\, „B4”\, „B5”\, „B7” kategóriáiba tartozó hosszú sima csövű (sörétes)\,és a – Polgári Kézi lőfegyver – és Lőszervizsgáló Kft. által bevizsgált – ismétlő hosszú sima csövű (sörétes) központi gyújtású „C1” kategóriába sorolt tűzfegyverek\, valamint feketelőporral működtethető (elöltöltős) fegyverek kategóriáiba tartozó tűzfegyverek(lőfegyverek) használatára alkalmasak.\n                               A 2021.01.01-i\, módosított 2004. évi XXIV. törvény mellékletében meghatározott:\n–          „A”6. a) „B” 1; 2; 3; 5; kategóriába tartozó rövid tűzfegyverek (pisztolyok).22-.45 kaliberig az (a fegyveres szerveknél rendszeresített rövid tűzfegyver /pisztoly/ kategóriába tartozó eszközök használatára is alkalmas)\n–          „A” 5; 6; b)  „B”3; 4. a)\, b)\, 5; 6; 9; 10; 11; kategóriába tartozó hosszú huzagolt csövű (golyós) tűzfegyverek 17 – 10\,75 mm kaliberig\n–          „B” 4. b)\, 6; 7; 10; 12; kategóriáiba tartozó hosszú huzagolatlan csövű (sörétes) tűzfegyverek 10 – 36 kaliberig\, kategóriába sorolt tűzfegyverek\, használatára alkalmasak.\n–          A lőpályák a fent meghatározott kategóriákba tartozó hosszú huzagolatlan csövű (sörétes) tűzfegyverek kaliberüktől függetlenül\, max. 32g tömegű brenneke lövedékkel szerelt lőszerek max.2\,5mm átmérőjű\, 28 grammos söréttöltettel töltött lőszerek alkalmazhatók.
URL:https://gunstuff.tv/event/v-mekk-mester-kupa-ipsc-handgun-pcc/
LOCATION:6640 Csongrád\, Kolozsvári u.\,\, Csongrád Hungary
END:VEVENT
END:VCALENDAR