BEGIN:VCALENDAR
VERSION:2.0
PRODID:-//GunStuff TV - ECPv6.15.20//NONSGML v1.0//EN
CALSCALE:GREGORIAN
METHOD:PUBLISH
X-ORIGINAL-URL:https://gunstuff.tv
X-WR-CALDESC:Events for GunStuff TV
REFRESH-INTERVAL;VALUE=DURATION:PT1H
X-Robots-Tag:noindex
X-PUBLISHED-TTL:PT1H
BEGIN:VTIMEZONE
TZID:UTC
BEGIN:STANDARD
TZOFFSETFROM:+0000
TZOFFSETTO:+0000
TZNAME:UTC
DTSTART:20250101T000000
END:STANDARD
END:VTIMEZONE
BEGIN:VEVENT
DTSTART;TZID=UTC:20260425T163000
DTEND;TZID=UTC:20260425T193000
DTSTAMP:20260421T184947
CREATED:20260421T200337Z
LAST-MODIFIED:20260421T200337Z
UID:10008454-1777134600-1777145400@gunstuff.tv
SUMMARY:RR&GC Steel Challenge 04_25_2026
DESCRIPTION:
URL:https://gunstuff.tv/event/rrgc-steel-challenge-04_25_2026/
LOCATION:65600 S Hwy 97\, Redmond OR\, United States
END:VEVENT
END:VCALENDAR