BEGIN:VCALENDAR
VERSION:2.0
PRODID:-//GunStuff TV - ECPv6.15.20//NONSGML v1.0//EN
CALSCALE:GREGORIAN
METHOD:PUBLISH
X-WR-CALNAME:GunStuff TV
X-ORIGINAL-URL:https://gunstuff.tv
X-WR-CALDESC:Events for GunStuff TV
REFRESH-INTERVAL;VALUE=DURATION:PT1H
X-Robots-Tag:noindex
X-PUBLISHED-TTL:PT1H
BEGIN:VTIMEZONE
TZID:UTC
BEGIN:STANDARD
TZOFFSETFROM:+0000
TZOFFSETTO:+0000
TZNAME:UTC
DTSTART:20250101T000000
END:STANDARD
END:VTIMEZONE
BEGIN:VEVENT
DTSTART;TZID=UTC:20260425T113000
DTEND;TZID=UTC:20260425T190000
DTSTAMP:20260421T195539
CREATED:20260421T200315Z
LAST-MODIFIED:20260421T200315Z
UID:10008255-1777116600-1777143600@gunstuff.tv
SUMMARY:ALPHAS - NC1 - 2026 April 25 (RCWA) - 2/3 Gun Match - Not Cowboy Action Shooting
DESCRIPTION:2/3 Gun Match\nNot Cowboy Action Shooting (SASS)\nIs Scored like Cowboy Action Shooting\nIf ONLINE registration is closed you may Register in person on Saturday\nYou have to check in and pay in person.
URL:https://gunstuff.tv/event/alphas-nc1-2026-april-25-rcwa-2-3-gun-match-not-cowboy-action-shooting/
LOCATION:650 Majolica Road\, Salisbury\, NC\, United States
GEO:35.680441;-80.45316
END:VEVENT
END:VCALENDAR