BEGIN:VCALENDAR
VERSION:2.0
PRODID:-//GunStuff TV - ECPv6.15.20//NONSGML v1.0//EN
CALSCALE:GREGORIAN
METHOD:PUBLISH
X-ORIGINAL-URL:https://gunstuff.tv
X-WR-CALDESC:Events for GunStuff TV
REFRESH-INTERVAL;VALUE=DURATION:PT1H
X-Robots-Tag:noindex
X-PUBLISHED-TTL:PT1H
BEGIN:VTIMEZONE
TZID:UTC
BEGIN:STANDARD
TZOFFSETFROM:+0000
TZOFFSETTO:+0000
TZNAME:UTC
DTSTART:20250101T000000
END:STANDARD
END:VTIMEZONE
BEGIN:VEVENT
DTSTART;TZID=UTC:20260411T140000
DTEND;TZID=UTC:20260411T180000
DTSTAMP:20260424T104541
CREATED:20260407T195437Z
LAST-MODIFIED:20260407T195437Z
UID:10007231-1775916000-1775930400@gunstuff.tv
SUMMARY:Steel Challenge SCSA147 2Alpha at SBRC April 11th 2026
DESCRIPTION:Our Steel Challenge matches will run 5 stages. Matches will take approximately 2-1/2 hours and require 125-150 rounds to complete. Our Steel Challenge matches will continue to be on the 2nd Saturday of the month starting at 9:00 am. You are welcome to enter multiple divisions. Pre-registration is strongly encouraged but not required. $15 adult\, $5 junior for the first division entry\, $10 adult/$5 junior for each additional.
URL:https://gunstuff.tv/event/steel-challenge-scsa147-2alpha-at-sbrc-april-11th-2026/
LOCATION:646 Kastendieck Road\, Billings MO\, United States
END:VEVENT
END:VCALENDAR