BEGIN:VCALENDAR
VERSION:2.0
PRODID:-//GunStuff TV - ECPv6.15.20//NONSGML v1.0//EN
CALSCALE:GREGORIAN
METHOD:PUBLISH
X-WR-CALNAME:GunStuff TV
X-ORIGINAL-URL:https://gunstuff.tv
X-WR-CALDESC:Events for GunStuff TV
REFRESH-INTERVAL;VALUE=DURATION:PT1H
X-Robots-Tag:noindex
X-PUBLISHED-TTL:PT1H
BEGIN:VTIMEZONE
TZID:UTC
BEGIN:STANDARD
TZOFFSETFROM:+0000
TZOFFSETTO:+0000
TZNAME:UTC
DTSTART:20250101T000000
END:STANDARD
END:VTIMEZONE
BEGIN:VEVENT
DTSTART;TZID=UTC:20260415T213000
DTEND;TZID=UTC:20260416T000000
DTSTAMP:20260424T085527
CREATED:20260414T200157Z
LAST-MODIFIED:20260414T200157Z
UID:10007534-1776288600-1776297600@gunstuff.tv
SUMMARY:Fun Shoot
DESCRIPTION:This is a Fun Shoot\, 2 pits with steel challenge stages\, 1 pit with falling steel {2 plate racks-Texas Star and Irish star}\, and 1 pit with USPSA paper targets and steel.\nThe cost is $10.00\, and you can shoot each pit multiple times\, as time allows. There will be no official scorekeeping\, but stages will be timed.\nDrawing from the holster allowed for experienced action shooters; all others will start at low ready.\nThis is a COLD RANGE. Please come to the Range with all firearms unloaded and cased\, with magazines and ammunition stored separately from the firearms.\nWaivers to be signed when paying.
URL:https://gunstuff.tv/event/fun-shoot/
LOCATION:644 Englemore Rd\, Clifton Park\, NY\, United States
GEO:42.850576;-73.792524
END:VEVENT
END:VCALENDAR