BEGIN:VCALENDAR
VERSION:2.0
PRODID:-//GunStuff TV - ECPv6.15.20//NONSGML v1.0//EN
CALSCALE:GREGORIAN
METHOD:PUBLISH
X-ORIGINAL-URL:https://gunstuff.tv
X-WR-CALDESC:Events for GunStuff TV
REFRESH-INTERVAL;VALUE=DURATION:PT1H
X-Robots-Tag:noindex
X-PUBLISHED-TTL:PT1H
BEGIN:VTIMEZONE
TZID:UTC
BEGIN:STANDARD
TZOFFSETFROM:+0000
TZOFFSETTO:+0000
TZNAME:UTC
DTSTART:20250101T000000
END:STANDARD
END:VTIMEZONE
BEGIN:VEVENT
DTSTART;TZID=UTC:20260418T130000
DTEND;TZID=UTC:20260418T190000
DTSTAMP:20260424T074033
CREATED:20260414T200222Z
LAST-MODIFIED:20260414T200222Z
UID:10007750-1776517200-1776538800@gunstuff.tv
SUMMARY:FMPSA April 2026 Indoor USPSA Classifier Match
DESCRIPTION:Tentatively at RRRMC based on weather.  We’re going outside if the weather permits.  Registration will open a few days prior after decision on location has been made.\nThe fees on Practiscore cover just the club match fees.  RRRMC charges additional range fees.\nSee https://www.fmpsa.com/calendar for more details.
URL:https://gunstuff.tv/event/fmpsa-april-2026-indoor-uspsa-classifier-match/
LOCATION:640 16th St. NE\, West Fargo North Dakota\, United States
END:VEVENT
END:VCALENDAR