BEGIN:VCALENDAR
VERSION:2.0
PRODID:-//GunStuff TV - ECPv6.15.20//NONSGML v1.0//EN
CALSCALE:GREGORIAN
METHOD:PUBLISH
X-WR-CALNAME:GunStuff TV
X-ORIGINAL-URL:https://gunstuff.tv
X-WR-CALDESC:Events for GunStuff TV
REFRESH-INTERVAL;VALUE=DURATION:PT1H
X-Robots-Tag:noindex
X-PUBLISHED-TTL:PT1H
BEGIN:VTIMEZONE
TZID:UTC
BEGIN:STANDARD
TZOFFSETFROM:+0000
TZOFFSETTO:+0000
TZNAME:UTC
DTSTART:20250101T000000
END:STANDARD
END:VTIMEZONE
BEGIN:VEVENT
DTSTART;TZID=UTC:20260418T140000
DTEND;TZID=UTC:20260418T183000
DTSTAMP:20260424T073906
CREATED:20260414T200221Z
LAST-MODIFIED:20260414T200221Z
UID:10007738-1776520800-1776537000@gunstuff.tv
SUMMARY:Riley CC Steel Challenge 04-18-26
DESCRIPTION:THIS MATCH IS WEATHER DEPENDENT!\nPLEASE NOTE THE START TIME CHANGES!\n6 Stages. All are Classifiers. OFFICIAL SCSA Stages.\nAny and all assistance with set-up will be very appreciated.\nSet-Up: 8:30 A.M. to 9:00 A.M.\nCheck In: 9:00 A.M. to 9:45 A.M.\nShooters Meeting: 9:45 A.M.\nMatch Starts: 10:00 A.M.\n2 Guns Max. A separate registration is required for each gun. Please squad each gun after you register it.\n$10 per gun.\nYouth under the age of 18 are $5.\nPlease do not plan to pay with a $100 bill.\nWalk on is always welcome.\nPay at check-in.\nContact me with any concerns at: rcs36@yahoo.com Text 812-201-8738\nRichard StokesMatch Director
URL:https://gunstuff.tv/event/riley-cc-steel-challenge-04-18-26/
LOCATION:6301 E Gross Rd\, Terre Haute Indiana\, United States
END:VEVENT
END:VCALENDAR