BEGIN:VCALENDAR
VERSION:2.0
PRODID:-//GunStuff TV - ECPv6.15.20//NONSGML v1.0//EN
CALSCALE:GREGORIAN
METHOD:PUBLISH
X-ORIGINAL-URL:https://gunstuff.tv
X-WR-CALDESC:Events for GunStuff TV
REFRESH-INTERVAL;VALUE=DURATION:PT1H
X-Robots-Tag:noindex
X-PUBLISHED-TTL:PT1H
BEGIN:VTIMEZONE
TZID:UTC
BEGIN:STANDARD
TZOFFSETFROM:+0000
TZOFFSETTO:+0000
TZNAME:UTC
DTSTART:20250101T000000
END:STANDARD
END:VTIMEZONE
BEGIN:VEVENT
DTSTART;TZID=UTC:20260419T150000
DTEND;TZID=UTC:20260419T190000
DTSTAMP:20260424T104704
CREATED:20260414T200246Z
LAST-MODIFIED:20260414T200246Z
UID:10007976-1776610800-1776625200@gunstuff.tv
SUMMARY:CTASA   3rd Sunday USPSA  4-19-2026 at ETTS Range
DESCRIPTION:Cross Timbers Action Shooting Association (CTASA) USPSA match at the Extreme Tactics and Training Systems (ETTS) range.\nCTASA currently does not allow the use of any Sig P320 variant pistol.\n– Set-up starts at 8:00 a.m.\n– Sign in starts at 9:00 a.m.\n– Check in and pay at bay M1\n– New shooter briefing is at 9:15 a.m.\n– Match starts at 10:00 a.m.\n– Round count is 150-175\nAll match competitors and observers must enter through the range main entrance.\nEither at the guard shack or in the main office.  Range officials will direct you to the match bays.\nMatch Fees; which include both the RANGE fee and the CLUB fee –\nCTASA Members – $25.00\nNon-members – $30.00\n– – CASH ONLY – –  Please\, no large bills.\nMatch check in and payment will be in bay M1\nYou can become a CTASA member here – http://ctasa.club/membership/\nAll competitors\, and observers are required to complete and sign waivers for both the range\, and the CTASA club.\nPlease complete and sign both waivers ahead of time to prevent delays.\nETTS range waiver\, which only needs to be completed once:\nhttps://waiver.smartwaiver.com/w/5dbb571b611ab/web/\nCTASA club waiver:\nhttps://app.waiverforever.com/pending/A12Ys0zTCC1743101645\nNote: For Insurance reasons\, no one under the age of 12 are allowed to compete or be in the shooting bays.\nThe match is typically held in the competition bays M1 – M6.\nWe welcome additional help with set-up\, please contact the MD’s for more information.\nAll competitors attending CTASA matches are expected to:\n– Be ready when it is their turn to shoot\n– Help paste targets after scoring\, and reset the stages\n– Help tear down\, and properly store equipment at the end of the match\nIf you are unable to attend\, please WITHDRAW from the match in a timely manner.\nThis helps with balancing the squads\, allows waitlisted competitors an opportunity to attend\,\nand helps facilitate that the match starts on time.\nIf you are a new shooter\, please take a few minutes and read over the new shooter information:\nUSPSA: http://ctasa.club/a-guide-to-your-first-uspsa-match/\nYou can find more information about our club at CTASA.CLUB
URL:https://gunstuff.tv/event/ctasa-3rd-sunday-uspsa-4-19-2026-at-etts-range/
LOCATION:620 Greathouse Road\, Waxahachie TX\, United States
END:VEVENT
BEGIN:VEVENT
DTSTART;TZID=UTC:20260411T150000
DTEND;TZID=UTC:20260411T190000
DTSTAMP:20260424T104704
CREATED:20260407T195429Z
LAST-MODIFIED:20260407T195429Z
UID:10007153-1775919600-1775934000@gunstuff.tv
SUMMARY:CTASA   IDPA  4-11-2026 at ETTS range
DESCRIPTION:Cross Timbers Action Shooting Association (CTASA) IDPA match at the Extreme Tactics and Training Systems (ETTS) range\n– Set-up starts at 8:00 a.m.\n– Sign in starts at 9:00 a.m.\n– New shooter briefing is at 9:20 a.m.\n– Match starts at 10:00 a.m.\n– Round count is 100 -125\nMatch fee is $20.00 for CTASA members\, or $30.00 for non-members – this includes both the range fee\, and the CTASA club fee.  CASH ONLY for payment.  Pay at the bay during check in.  DO NOT PAY at the Range Office.\nAll competitors\, and observers are required to sign waivers for both the range\, and the club.  Please sign them ahead of time.\nETTS range waiver\, which only needs to be completed once:\nhttps://waiver.smartwaiver.com/w/5dbb571b611ab/web/\nCTASA club waiver:\nhttps://app.waiverforever.com/pending/xD2T8Mfy851526067359\nYou must check in at the range office\, which opens at 9:00 a.m.  Let them know that you are here for the CTASA match and they will let you through the gate.  The match is typically held in bays M1\, M2\, and M3.  Please do not block access to these bays when parking.  We welcome additional help with set-up\, please contact the MD’s for more information.   \nAll competitors attending CTASA matches are expected to:\n– Be ready when it is their turn to shoot\n– Help paste targets after scoring\, and reset the stages\n– Help tear down\, and properly store equipment at the end of the match\nUnder no circumstance will children under 12 be allowed in club bays during matches.\nIf you are unable to attend\, please WITHDRAW from the match in a timely manner.  This helps with balancing the squads\, allows waitlisted competitors an opportunity to attend\, and helps facilitate that the match starts on time.\nIf you are a new shooter\, please take a few minutes and read over the new shooter information:\nhttp://ctasa.club/getting-started-with-competition-shooting-at-cross-timbers/\nYou can find more information about our club at CTASA.CLUB
URL:https://gunstuff.tv/event/ctasa-idpa-4-11-2026-at-etts-range/
LOCATION:620 Greathouse Road\, Waxahachie TX\, United States
END:VEVENT
END:VCALENDAR