BEGIN:VCALENDAR
VERSION:2.0
PRODID:-//GunStuff TV - ECPv6.15.20//NONSGML v1.0//EN
CALSCALE:GREGORIAN
METHOD:PUBLISH
X-WR-CALNAME:GunStuff TV
X-ORIGINAL-URL:https://gunstuff.tv
X-WR-CALDESC:Events for GunStuff TV
REFRESH-INTERVAL;VALUE=DURATION:PT1H
X-Robots-Tag:noindex
X-PUBLISHED-TTL:PT1H
BEGIN:VTIMEZONE
TZID:UTC
BEGIN:STANDARD
TZOFFSETFROM:+0000
TZOFFSETTO:+0000
TZNAME:UTC
DTSTART:20250101T000000
END:STANDARD
END:VTIMEZONE
BEGIN:VEVENT
DTSTART;TZID=UTC:20260417T013000
DTEND;TZID=UTC:20260417T050000
DTSTAMP:20260424T083714
CREATED:20260414T200204Z
LAST-MODIFIED:20260414T200204Z
UID:10007600-1776389400-1776402000@gunstuff.tv
SUMMARY:OPP FUN STEEL MATCH
DESCRIPTION:The Fun Steel Match consists of 4 stages with 3 strings of fire per stage. 72 rounds of ammunition\, (minimum)\, will be required to finish the match.  There will be anywhere from 1 to 6 steel targes which need to be shot in a specified order.\nHandguns and rifles chambered for pistol cartridges are welcome.\nAll pistol calibers from\, .17cal-rimfire to .45ACP centerfire are allowed.  NO MAGNUM CALIBERS LARGER THAN .357 MAGNUM.
URL:https://gunstuff.tv/event/opp-fun-steel-match/
LOCATION:618 Airport RD\, Oceanside\, CA\, United States
GEO:33.016928;-116.846046
END:VEVENT
BEGIN:VEVENT
DTSTART;TZID=UTC:20260410T010000
DTEND;TZID=UTC:20260410T050000
DTSTAMP:20260424T083714
CREATED:20260407T195414Z
LAST-MODIFIED:20260407T195414Z
UID:10007016-1775782800-1775797200@gunstuff.tv
SUMMARY:OPP Outlaw Run N Gun
DESCRIPTION:The Outlaw Run N Gun match is a “USPSA style” match\, using Time Plus scoring and USPSA gun divisions.\n4 stages of fire\, 100 rounds of ammunition will be needed to complete the match.
URL:https://gunstuff.tv/event/opp-outlaw-run-n-gun/
LOCATION:618 Airport RD\, Oceanside\, CA\, United States
GEO:33.016928;-116.846046
END:VEVENT
END:VCALENDAR