BEGIN:VCALENDAR
VERSION:2.0
PRODID:-//GunStuff TV - ECPv6.15.20//NONSGML v1.0//EN
CALSCALE:GREGORIAN
METHOD:PUBLISH
X-ORIGINAL-URL:https://gunstuff.tv
X-WR-CALDESC:Events for GunStuff TV
REFRESH-INTERVAL;VALUE=DURATION:PT1H
X-Robots-Tag:noindex
X-PUBLISHED-TTL:PT1H
BEGIN:VTIMEZONE
TZID:UTC
BEGIN:STANDARD
TZOFFSETFROM:+0000
TZOFFSETTO:+0000
TZNAME:UTC
DTSTART:20250101T000000
END:STANDARD
END:VTIMEZONE
BEGIN:VEVENT
DTSTART;TZID=UTC:20260422T170000
DTEND;TZID=UTC:20260423T003000
DTSTAMP:20260422T202002
CREATED:20260421T200307Z
LAST-MODIFIED:20260421T200307Z
UID:10008179-1776877200-1776904200@gunstuff.tv
SUMMARY:April 22\, 2026
DESCRIPTION:
URL:https://gunstuff.tv/event/april-22-2026/
LOCATION:6150 South Park\, Hamburg\, NY\, United States
GEO:42.729083;-78.837596
END:VEVENT
END:VCALENDAR