BEGIN:VCALENDAR
VERSION:2.0
PRODID:-//GunStuff TV - ECPv6.15.20//NONSGML v1.0//EN
CALSCALE:GREGORIAN
METHOD:PUBLISH
X-ORIGINAL-URL:https://gunstuff.tv
X-WR-CALDESC:Events for GunStuff TV
REFRESH-INTERVAL;VALUE=DURATION:PT1H
X-Robots-Tag:noindex
X-PUBLISHED-TTL:PT1H
BEGIN:VTIMEZONE
TZID:UTC
BEGIN:STANDARD
TZOFFSETFROM:+0000
TZOFFSETTO:+0000
TZNAME:UTC
DTSTART:20250101T000000
END:STANDARD
END:VTIMEZONE
BEGIN:VEVENT
DTSTART;TZID=UTC:20260415T220000
DTEND;TZID=UTC:20260416T020000
DTSTAMP:20260424T085725
CREATED:20260414T200158Z
LAST-MODIFIED:20260414T200158Z
UID:10007541-1776290400-1776304800@gunstuff.tv
SUMMARY:Darnall Action 22 cal league
DESCRIPTION:It will be steel targets with movement on the indoor range.  You will shoot the stage twice. $12.00 first firearm to shoot… a second add $6.00
URL:https://gunstuff.tv/event/darnall-action-22-cal-league/
LOCATION:6125 E 1175 North Road\, Bloomington\, IL\, United States
GEO:40.476771;-88.992995
END:VEVENT
END:VCALENDAR