BEGIN:VCALENDAR
VERSION:2.0
PRODID:-//GunStuff TV - ECPv6.15.20//NONSGML v1.0//EN
CALSCALE:GREGORIAN
METHOD:PUBLISH
X-ORIGINAL-URL:https://gunstuff.tv
X-WR-CALDESC:Events for GunStuff TV
REFRESH-INTERVAL;VALUE=DURATION:PT1H
X-Robots-Tag:noindex
X-PUBLISHED-TTL:PT1H
BEGIN:VTIMEZONE
TZID:UTC
BEGIN:STANDARD
TZOFFSETFROM:+0000
TZOFFSETTO:+0000
TZNAME:UTC
DTSTART:20250101T000000
END:STANDARD
END:VTIMEZONE
BEGIN:VEVENT
DTSTART;TZID=UTC:20260425T140000
DTEND;TZID=UTC:20260425T180000
DTSTAMP:20260424T090223
CREATED:20260421T200327Z
LAST-MODIFIED:20260421T200327Z
UID:10008352-1777125600-1777140000@gunstuff.tv
SUMMARY:Collin County Carbine/Pistol 4/25/2026 at Greenville Range Membership Required
DESCRIPTION:Pistol/Carbine matches open to CCIDPA members with at least 8 other club matches prior participation.\n5 stages including 100+ yard rifle only stage.\nWe will set up a gong at 100 yard to use for checking zero.\nAll participants must sign GPD waiver at check-in.\nPlease arrive no later than 8:45 so we can complete check-in. Come as early as 8:15 to help with setup!
URL:https://gunstuff.tv/event/collin-county-carbine-pistol-4-25-2026-at-greenville-range-membership-required/
LOCATION:6040 Texas 160\, Greenville Texas\, United States
END:VEVENT
END:VCALENDAR