BEGIN:VCALENDAR
VERSION:2.0
PRODID:-//GunStuff TV - ECPv6.15.20//NONSGML v1.0//EN
CALSCALE:GREGORIAN
METHOD:PUBLISH
X-ORIGINAL-URL:https://gunstuff.tv
X-WR-CALDESC:Events for GunStuff TV
REFRESH-INTERVAL;VALUE=DURATION:PT1H
X-Robots-Tag:noindex
X-PUBLISHED-TTL:PT1H
BEGIN:VTIMEZONE
TZID:UTC
BEGIN:STANDARD
TZOFFSETFROM:+0000
TZOFFSETTO:+0000
TZNAME:UTC
DTSTART:20250101T000000
END:STANDARD
END:VTIMEZONE
BEGIN:VEVENT
DTSTART;TZID=UTC:20260412T140000
DTEND;TZID=UTC:20260412T210000
DTSTAMP:20260424T104608
CREATED:20260407T195450Z
LAST-MODIFIED:20260407T195450Z
UID:10007349-1776002400-1776027600@gunstuff.tv
SUMMARY:Coal Canyon Precision Rifle  Match - April
DESCRIPTION:The  COAL CANYON PRECISION RIFLE MATCH (formerly known as The Sporting Rifle Match) at the NRA Whittington Center in Raton NM is designed to test a rifleman’s skills shooting small targets from approximately 275 to 875 yards in the natural terrain\, with what he can carry throughout the course.\nThe match format is 10 stages spread over a 2 mile distance. Each stage has 6 targets at varying distances to be engaged with only one shot each. Target distances are known to the shooter. Shooters must complete each stage’s target engagements within 3 minutes. No “sighter shots” allowed. Score is total number of hits out of 60 possible.
URL:https://gunstuff.tv/event/coal-canyon-precision-rifle-match-april/
LOCATION:603 New Mexico 555\, Raton NM\, United States
END:VEVENT
BEGIN:VEVENT
DTSTART;TZID=UTC:20260411T140000
DTEND;TZID=UTC:20260411T180000
DTSTAMP:20260424T104608
CREATED:20260407T195435Z
LAST-MODIFIED:20260407T195435Z
UID:10007215-1775916000-1775930400@gunstuff.tv
SUMMARY:Coal Canyon Precision RIMFIRE Match - April
DESCRIPTION:The Coal Canyon Precision Rimfire Match is a “field style” match very similar the regular Coal Canyon Precision Rifle Match.  The major differences are that the target ranges and distances between shooting positions are shorter and only .22 rimfire firearms are allowed.\nThe match format is 6-8 stages with minimal walking between stages.  Each stage has 5 targets at varying distances in natural terrain.  Each target is to be engaged twice.  Target distances are known to the shooter and will vary from 50 to 200 yards on most stages and 50 to 400 yards on one stage.  Shooters must complete each stage’s target engagements within 3 minutes. See rules for additional details.  Most stages accommodate a prone position shooting\, however\, some may require elevated shooting positions\, shooting sticks\, etc.\nTypical equipment used includes: a rifle capable of 1 MOA accuracy; rifle optics allowing precise hold-over and windage for small targets from 50-400 yards; shooting sticks and/or tripod; binoculars to spot for other shooters; and a backpack to carry\, shooting accessories\, ammunition or whatever else you might need.\nPlan to arrive by 7:00 AM for sign-up and practice before the match which starts at 8:00 AM. The match is usually finished by noon.
URL:https://gunstuff.tv/event/coal-canyon-precision-rimfire-match-april/
LOCATION:603 New Mexico 555\, Raton NM\, United States
END:VEVENT
END:VCALENDAR