BEGIN:VCALENDAR
VERSION:2.0
PRODID:-//GunStuff TV - ECPv6.15.20//NONSGML v1.0//EN
CALSCALE:GREGORIAN
METHOD:PUBLISH
X-ORIGINAL-URL:https://gunstuff.tv
X-WR-CALDESC:Events for GunStuff TV
REFRESH-INTERVAL;VALUE=DURATION:PT1H
X-Robots-Tag:noindex
X-PUBLISHED-TTL:PT1H
BEGIN:VTIMEZONE
TZID:UTC
BEGIN:STANDARD
TZOFFSETFROM:+0000
TZOFFSETTO:+0000
TZNAME:UTC
DTSTART:20250101T000000
END:STANDARD
END:VTIMEZONE
BEGIN:VEVENT
DTSTART;TZID=UTC:20260415T213000
DTEND;TZID=UTC:20260416T000000
DTSTAMP:20260424T084202
CREATED:20260414T200158Z
LAST-MODIFIED:20260414T200158Z
UID:10007538-1776288600-1776297600@gunstuff.tv
SUMMARY:Hosers Pueblo Wednesday Afternoon Steel Challenge
DESCRIPTION:Wednesday afternoon Steel Challenge. Four stages with three strings per stage. Estimated round count 75 rounds per gun.\nNo online match registration is required. Just show up and shoot.\nAll rimfire and pistol caliber firearms allowed.\nSetup starts at 3:30. We can start shooting as soon as the match is set up.\nYou have to arrive no later than 5:00.\nWe have to be done shooting no later than 30 minutes before dark per range rules.\nNo online match registration is required. Just show up and shoot.
URL:https://gunstuff.tv/event/hosers-pueblo-wednesday-afternoon-steel-challenge/
LOCATION:600 East Loma Drive\, Pueblo\, CO\, United States
GEO:38.350002;-104.722755
END:VEVENT
END:VCALENDAR