BEGIN:VCALENDAR
VERSION:2.0
PRODID:-//GunStuff TV - ECPv6.15.20//NONSGML v1.0//EN
CALSCALE:GREGORIAN
METHOD:PUBLISH
X-WR-CALNAME:GunStuff TV
X-ORIGINAL-URL:https://gunstuff.tv
X-WR-CALDESC:Events for GunStuff TV
REFRESH-INTERVAL;VALUE=DURATION:PT1H
X-Robots-Tag:noindex
X-PUBLISHED-TTL:PT1H
BEGIN:VTIMEZONE
TZID:UTC
BEGIN:STANDARD
TZOFFSETFROM:+0000
TZOFFSETTO:+0000
TZNAME:UTC
DTSTART:20250101T000000
END:STANDARD
END:VTIMEZONE
BEGIN:VEVENT
DTSTART;TZID=UTC:20260426T000000
DTEND;TZID=UTC:20260426T053000
DTSTAMP:20260421T173809
CREATED:20260421T200344Z
LAST-MODIFIED:20260421T200344Z
UID:10008508-1777161600-1777181400@gunstuff.tv
SUMMARY:Bitterroot Blasters OUTLAW NIGHT Match April 2026
DESCRIPTION:Our OUTLAW NIGHT match. PLEASE READ THE WHOLE DISCRIPTION BEFORE REGISTERING!! This might seem redundant\, but some of you have not shot with us before. This is the only way the match happens and we have a chance for it to happen again.\nSAFETY is our #1 concern\, You play by our rules or not at all !! There will be a ZERO TOLERANCE policy for being under the influence of drugs or alcohol. Being an evening/night match\, don’t have a drink with dinner and show up to the match. We run a COLD RANGE (no loaded firearms until you are at the line and the RO tells you to)\n5-6 stages (we will be setting up Sundays USPSA stages\, with some slight variations). Set up 6pm match day\, ALL shooters expected to help!! Sign in opens when set up is complete\, then a quick shooters meeting. Once its dark we will start shooting. Meal included in match fee!\nYou will need a pistol or PCC/Carbine with a light (9\, 10\, 40\, 45\, etc. we WILL allow SUPPRESSED 300blk AND .556 — NO 308 ). Pistol braces and suppressors allowed. Holsters not required\, we can start you at LOW ready. We will have dedicated white light & NOD squads (for those with Night Vision) Squad accordingly with your division. You will need a head lamp for loading\, scoring\, taping\, resetting\, etc.\nRecommendations: CLEAR safety glasses. Extra batteries for ALL your electronics. We will provide 2 chem lights per shooter.\nHope to see you Sunday morning as well!! If you’re traveling to come\, there are plenty of hotels on the north end of Hamilton. If interested in throwing down a sleeping bag in the heated classroom\, the range has agreed to allow it\, just let me know in advance.\nAny questions reach out to me – Tim
URL:https://gunstuff.tv/event/bitterroot-blasters-outlaw-night-match-april-2026/
LOCATION:598 Blodgett View Drive\, Hamilton Montana\, United States
END:VEVENT
END:VCALENDAR