BEGIN:VCALENDAR
VERSION:2.0
PRODID:-//GunStuff TV - ECPv6.15.20//NONSGML v1.0//EN
CALSCALE:GREGORIAN
METHOD:PUBLISH
X-WR-CALNAME:GunStuff TV
X-ORIGINAL-URL:https://gunstuff.tv
X-WR-CALDESC:Events for GunStuff TV
REFRESH-INTERVAL;VALUE=DURATION:PT1H
X-Robots-Tag:noindex
X-PUBLISHED-TTL:PT1H
BEGIN:VTIMEZONE
TZID:UTC
BEGIN:STANDARD
TZOFFSETFROM:+0000
TZOFFSETTO:+0000
TZNAME:UTC
DTSTART:20250101T000000
END:STANDARD
END:VTIMEZONE
BEGIN:VEVENT
DTSTART;TZID=UTC:20260426T120000
DTEND;TZID=UTC:20260426T210000
DTSTAMP:20260421T184641
CREATED:20260421T200346Z
LAST-MODIFIED:20260421T200346Z
UID:10008526-1777204800-1777237200@gunstuff.tv
SUMMARY:Hardwick PRS Rimfire Embrace the Fools match
DESCRIPTION:Welcome to the 2026 PRS RIMFIRE SERIES! This is to be a 9 stage match with a round count anywhere from 80-120 rounds. We have many different props and targets to play with and will be sure to challenge yourself\, regardless of your level!\nThe weather is always a constant variable\, so please come dressed accordingly. The match goes on Wind\, rain\, snow\, or shine. We have a 90% covered range. But with the capability to throw up cover when necessary. We only cancel for forecasted heavy snow and ice storms.\nWe are fully capable of accepting payments online\, but we also accept cash at time of registration. For those that do pay online and need to cancel\, there is a $8 fee to help cover my surcharges. If you don’t give 24 hour notification of cancelation or are a no-show\, then you will forfeit your entry fee.
URL:https://gunstuff.tv/event/hardwick-prs-rimfire-embrace-the-fools-match/
LOCATION:59 Thresher Road\, Hardwick Massachusetts\, United States
END:VEVENT
END:VCALENDAR