BEGIN:VCALENDAR
VERSION:2.0
PRODID:-//GunStuff TV - ECPv6.15.20//NONSGML v1.0//EN
CALSCALE:GREGORIAN
METHOD:PUBLISH
X-WR-CALNAME:GunStuff TV
X-ORIGINAL-URL:https://gunstuff.tv
X-WR-CALDESC:Events for GunStuff TV
REFRESH-INTERVAL;VALUE=DURATION:PT1H
X-Robots-Tag:noindex
X-PUBLISHED-TTL:PT1H
BEGIN:VTIMEZONE
TZID:UTC
BEGIN:STANDARD
TZOFFSETFROM:+0000
TZOFFSETTO:+0000
TZNAME:UTC
DTSTART:20250101T000000
END:STANDARD
END:VTIMEZONE
BEGIN:VEVENT
DTSTART;TZID=UTC:20260426T000000
DTEND;TZID=UTC:20260426T030000
DTSTAMP:20260421T173826
CREATED:20260421T200344Z
LAST-MODIFIED:20260421T200344Z
UID:10008509-1777161600-1777172400@gunstuff.tv
SUMMARY:Northwoods 3Gun Group UML April 25 7 PM  --- NIGHT SHOOT
DESCRIPTION:Suppressed Night Shoot\nCome out and join us for After Dark Fun !\nNorthwoods 3Gun Hosts an evening of targets and challenges\nWhen: Saturday Evening May 25th\nWhere: Hodag Sports Club\, Rhinelander WI\nThree Stages to challenge your skills and see if your gear is up to the test\nSuppressed Rifle and or Pistol on all Stages\nPistol Only\, Rifle Only\, or  2 Gun Combo or  Night Vision  Divisions\nPaper Targets from 5 to 25 Yards and Steel Knock Down Targets from 10 to 25 Yards\, and Double Flash\nRifle Steel from 100 to 400 yards planned\nGlowsticks and Lighted Boundaries will be provided for all attendees for safety\nWeapon Mounted lights will be required. This is not intended to be a night vision shoot we will be\nilluminating the long range targets and they will have Dual LED hit indicators.\nSign Up on Practicscore under Northwoods 3Gun Group\nSuppressed Night Shoot Saturday Evening from 7 to 10PM ( Walkthrough from 5 to 6 PM )\nSunday  April 26  we will hold our monthly 3 Gun Match from 10 to 4 PM\nNight Shoot only Match Fee is $50 for non members $45 for members\n 3Gun Match $30 for non members and$25 for Members\nIf you book Both Night Shoot and Monthly 3 Gun combo price of  $70  Non Members $ 65 Members
URL:https://gunstuff.tv/event/northwoods-3gun-group-uml-april-25-7-pm-night-shoot/
LOCATION:5896 Sports Club Rd\, Rhinelander WI\, United States
END:VEVENT
BEGIN:VEVENT
DTSTART;TZID=UTC:20260426T000000
DTEND;TZID=UTC:20260426T030000
DTSTAMP:20260421T173826
CREATED:20260421T200344Z
LAST-MODIFIED:20260421T200344Z
UID:10008510-1777161600-1777172400@gunstuff.tv
SUMMARY:Northwoods 3Gun Group UML April 25 7 PM  --- NIGHT SHOOT
DESCRIPTION:Suppressed Night Shoot\nCome out and join us for After Dark Fun !\nNorthwoods 3Gun Hosts an evening of targets and challenges\nWhen: Saturday Evening May 25th\nWhere: Hodag Sports Club\, Rhinelander WI\nThree Stages to challenge your skills and see if your gear is up to the test\nSuppressed Rifle and or Pistol on all Stages\nPistol Only\, Rifle Only\, or  2 Gun Combo or  Night Vision  Divisions\nPaper Targets from 5 to 25 Yards and Steel Knock Down Targets from 10 to 25 Yards\, and Double Flash\nRifle Steel from 100 to 400 yards planned\nGlowsticks and Lighted Boundaries will be provided for all attendees for safety\nWeapon Mounted lights will be required. This is not intended to be a night vision shoot we will be\nilluminating the long range targets and they will have Dual LED hit indicators.\nSign Up on Practicscore under Northwoods 3Gun Group\nSuppressed Night Shoot Saturday Evening from 7 to 10PM ( Walkthrough from 5 to 6 PM )\nSunday  April 26  we will hold our monthly 3 Gun Match from 10 to 4 PM\nNight Shoot only Match Fee is $50 for non members $45 for members\n 3Gun Match $30 for non members and$25 for Members\nIf you book Both Night Shoot and Monthly 3 Gun combo price of  $70  Non Members $ 65 Members
URL:https://gunstuff.tv/event/northwoods-3gun-group-uml-april-25-7-pm-night-shoot-2/
LOCATION:5896 Sports Club Rd\, Rhinelander WI\, United States
END:VEVENT
END:VCALENDAR