BEGIN:VCALENDAR
VERSION:2.0
PRODID:-//GunStuff TV - ECPv6.15.20//NONSGML v1.0//EN
CALSCALE:GREGORIAN
METHOD:PUBLISH
X-ORIGINAL-URL:https://gunstuff.tv
X-WR-CALDESC:Events for GunStuff TV
REFRESH-INTERVAL;VALUE=DURATION:PT1H
X-Robots-Tag:noindex
X-PUBLISHED-TTL:PT1H
BEGIN:VTIMEZONE
TZID:UTC
BEGIN:STANDARD
TZOFFSETFROM:+0000
TZOFFSETTO:+0000
TZNAME:UTC
DTSTART:20250101T000000
END:STANDARD
END:VTIMEZONE
BEGIN:VEVENT
DTSTART;TZID=UTC:20260425T120000
DTEND;TZID=UTC:20260425T190000
DTSTAMP:20260424T090224
CREATED:20260421T200333Z
LAST-MODIFIED:20260421T200333Z
UID:10008415-1777118400-1777143600@gunstuff.tv
SUMMARY:East Coast Gas Gun Challenge 2026 - MATCH 2
DESCRIPTION:Welcome and thank you for joining us for another great season of the East Coast Gas Gun Challenge.\nWhat can you expect to see? Course of fire (COF) will consist of 7-8 stages designed to test your shooting abilities in a practical application manner. Targets will range from 5 – 700 yards utilizing both pistol and rifle. Any Withdraws inside of 5 days of the match will not receive refund or credit.\n1.	This is mostly a positional based match with some prone and offhand shooting.\n2.	Round count per stage is typically 20 or less for rifle and pistol.\n3.	Please stay hydrated.\n4.	Recommended Gear:\n     •	At least 150 rounds for your gas gun.\n     •	At least 50 rounds for your pistol.\n     •	Rifle sling.\n     •	Holster for pistol. Slings and holsters must be secure.\n     •	Magazine pouches for both rifle and pistol.\n     •	Extra magazines for rifle and pistol.\n     •	Eye and ear protection.\n     •	Chamber flag for your rifle.\n5.	Divisions:\n     •	DMR:\n     i.	Any semi-automatic rifle chambered in 5.56 NATO / 223 Remington or 7.62×51 NATO / 308 Winchester.\n     ii.	Max muzzle velocity of 3100FPS and a max projectile grain weight of 178gr.\n     iii.	No restrictions on supporting gear or optics.\n     iv.	No restrictions on pistol.\n     •	RECCE:\n     i.	Any semi-automatic rifle chambered in 5.56 NATO / 223 Remington or 7.62×51 NATO / 308 Winchester.\n     ii.	Max barrel length of 18”\n     iii.	Max 10x on your scope.\n     iv.	A single (1) supporting shooting item not attached to the rifle. This item cannot be a Bipod or Tripod.\n     v.	Max muzzle velocity of 3100FPS and a Max projectile grain weight of 178gr.\n     vi.	No restrictions on pistol.\n     •	Sniper:\n     i.		Any semi-automatic rifle EXCEPT 5.56 NATO / 223 Remington or 7.62×51 NATO / 308 Winchester.\n     ii.	Any bolt action rifle regardless of caliber.\n     iii.	No restrictions on supporting gear.\n     iv.	Max muzzle velocity of 3100FPS and a Max projectile grain weight of 178gr.\n     v.	No restriction on pistol.\n6.	Prize Table:\n     •	At the conclusion of each monthly match\, we will have a small prize table. This will be random draw.\n     •	The end of the season prize table will be 1st in each division then based off series match points.\n7.	Series:\n     •	There are a total of 8 matches\, starting in March.\n     •	To qualify for end of the year prize table:\n     i.     We take the highest 3 match scores in the same division for a total match point.\n     ii.     RO a single match.\n1.     Giving back to community is key to the growth of the community. Bring a buddy\, new shooters are always welcome.
URL:https://gunstuff.tv/event/east-coast-gas-gun-challenge-2026-match-2/
LOCATION:589 Meetinghouse Rd\, Gap PA\, United States
END:VEVENT
END:VCALENDAR