BEGIN:VCALENDAR
VERSION:2.0
PRODID:-//GunStuff TV - ECPv6.15.20//NONSGML v1.0//EN
CALSCALE:GREGORIAN
METHOD:PUBLISH
X-WR-CALNAME:GunStuff TV
X-ORIGINAL-URL:https://gunstuff.tv
X-WR-CALDESC:Events for GunStuff TV
REFRESH-INTERVAL;VALUE=DURATION:PT1H
X-Robots-Tag:noindex
X-PUBLISHED-TTL:PT1H
BEGIN:VTIMEZONE
TZID:UTC
BEGIN:STANDARD
TZOFFSETFROM:+0000
TZOFFSETTO:+0000
TZNAME:UTC
DTSTART:20250101T000000
END:STANDARD
END:VTIMEZONE
BEGIN:VEVENT
DTSTART;TZID=UTC:20260425T120000
DTEND;TZID=UTC:20260425T230000
DTSTAMP:20260421T173948
CREATED:20260421T200338Z
LAST-MODIFIED:20260421T200338Z
UID:10008461-1777118400-1777158000@gunstuff.tv
SUMMARY:Crawfish Cup Action Pistol Regional Championship
DESCRIPTION:The street address is for use with GPS. The range is actually located 1/2 mile south of the intersection of LA HWY 14 and LA HWY 27 at Holmwood\, LA.\nThe Crawfish Cup Action Pistol Regional and State Championship are a great warm-up for the Bianchi Cup International Pistol Championship which takes place about 4 weeks after the Crawfish Cup.
URL:https://gunstuff.tv/event/crawfish-cup-action-pistol-regional-championship/
LOCATION:5720 Old Camp Road\, Holmwood (May be shown as Bell City in GPS) Louisiana\, United States
END:VEVENT
END:VCALENDAR