BEGIN:VCALENDAR
VERSION:2.0
PRODID:-//GunStuff TV - ECPv6.15.20//NONSGML v1.0//EN
CALSCALE:GREGORIAN
METHOD:PUBLISH
X-WR-CALNAME:GunStuff TV
X-ORIGINAL-URL:https://gunstuff.tv
X-WR-CALDESC:Events for GunStuff TV
REFRESH-INTERVAL;VALUE=DURATION:PT1H
X-Robots-Tag:noindex
X-PUBLISHED-TTL:PT1H
BEGIN:VTIMEZONE
TZID:UTC
BEGIN:STANDARD
TZOFFSETFROM:+0000
TZOFFSETTO:+0000
TZNAME:UTC
DTSTART:20250101T000000
END:STANDARD
END:VTIMEZONE
BEGIN:VEVENT
DTSTART;TZID=UTC:20260408T230000
DTEND;TZID=UTC:20260409T030000
DTSTAMP:20260424T084620
CREATED:20260407T195406Z
LAST-MODIFIED:20260407T195406Z
UID:10006942-1775689200-1775703600@gunstuff.tv
SUMMARY:McHenry IDPA - April 8\, 2026
DESCRIPTION:Greetings from McHenry IDPA!\nMatch set-up begins at 5:00 PM.  The match will start at approximately 6:15 PM.\n** All participants are required to have action pistol competition experience or training in draw from a holder and shooting on the move **\nGeneral registration begins at 8AM the Wednesday before the match and ends at 8PM Tuesday before the match.\nYou must register through Practiscore to participate in this match. No walk-ins will be allowed!\nTotal registrations are limited. The match may fill up very\, very quickly after general registration opens!\nWe’re sorry that we can’t accommodate everyone who would like to participate in our matches – there is a hard limit on how many people can safely compete in the range time we have.\nNOTE: WE CANNOT ISSUE REFUNDS FOR ANY REASON OTHER THAN THE MATCH BEING CANCELLED! We reserve the right to cancel the match at anytime. Attendees WILL be issued a refund only if the match is cancelled.\nMemberships in McHenry Shooting Sports are available. Benefits include reduced match registration fees\, early registration and member-only events.\nAsk for details on joining and supporting our club!
URL:https://gunstuff.tv/event/mchenry-idpa-april-8-2026/
LOCATION:560 Beechcraft Lane\, Lake in the Hills\, IL\, United States
GEO:42.203618;-88.320768
END:VEVENT
END:VCALENDAR