BEGIN:VCALENDAR
VERSION:2.0
PRODID:-//GunStuff TV - ECPv6.15.20//NONSGML v1.0//EN
CALSCALE:GREGORIAN
METHOD:PUBLISH
X-WR-CALNAME:GunStuff TV
X-ORIGINAL-URL:https://gunstuff.tv
X-WR-CALDESC:Events for GunStuff TV
REFRESH-INTERVAL;VALUE=DURATION:PT1H
X-Robots-Tag:noindex
X-PUBLISHED-TTL:PT1H
BEGIN:VTIMEZONE
TZID:UTC
BEGIN:STANDARD
TZOFFSETFROM:+0000
TZOFFSETTO:+0000
TZNAME:UTC
DTSTART:20250101T000000
END:STANDARD
END:VTIMEZONE
BEGIN:VEVENT
DTSTART;TZID=UTC:20260418T130000
DTEND;TZID=UTC:20260418T160000
DTSTAMP:20260424T071713
CREATED:20260414T200208Z
LAST-MODIFIED:20260414T200208Z
UID:10007636-1776517200-1776528000@gunstuff.tv
SUMMARY:TPS Steel - April 2026
DESCRIPTION:Tallahassee Practical Shooters TPS Monthly Steel Challenge Match\nThis Match will consist of the following stages:\n4 Official Steel Challenge Stages\n2 Provisional Stages (Blazing TS-01 & Inversion TS-04)\nStage setup begins at 7:30am. Help is always appreciated during setup.\nRegistration opens from 8:00am to 8:45am.\nMatch starts at 9am and should complete around 12noon.\nMatch Fees: $15 for first gun\, $10 for a second gun. Cash or check only (no credit cards).\nMinimum round count:150 rounds (bring extra)\nREMINDER: The Competition Bays are a COLD range area during the match. No loaded firearms are allowed during the event unless you are a law enforcement officer in uniform on duty to spectate. Do not holster or handle your firearm anywhere except at the designated safe areas.\nNEW competitors at Talon must complete this brief waiver prior to shooting.\nhttps://waiver.smartwaiver.com/w/6217f5d300c84/web/
URL:https://gunstuff.tv/event/tps-steel-april-2026/
LOCATION:550 Commerce Blvd\, Plant City\, FL\, United States
GEO:27.977965;-82.095709
END:VEVENT
END:VCALENDAR