BEGIN:VCALENDAR
VERSION:2.0
PRODID:-//GunStuff TV - ECPv6.15.20//NONSGML v1.0//EN
CALSCALE:GREGORIAN
METHOD:PUBLISH
X-WR-CALNAME:GunStuff TV
X-ORIGINAL-URL:https://gunstuff.tv
X-WR-CALDESC:Events for GunStuff TV
REFRESH-INTERVAL;VALUE=DURATION:PT1H
X-Robots-Tag:noindex
X-PUBLISHED-TTL:PT1H
BEGIN:VTIMEZONE
TZID:UTC
BEGIN:STANDARD
TZOFFSETFROM:+0000
TZOFFSETTO:+0000
TZNAME:UTC
DTSTART:20250101T000000
END:STANDARD
END:VTIMEZONE
BEGIN:VEVENT
DTSTART;TZID=UTC:20260425T100000
DTEND;TZID=UTC:20260426T003000
DTSTAMP:20260421T212629
CREATED:20260421T200331Z
LAST-MODIFIED:20260421T200331Z
UID:10008395-1777111200-1777163400@gunstuff.tv
SUMMARY:SCFC APRIL IDPA TIER 1 MATCH
DESCRIPTION:IDPA TIER 1 MATCH \nMatches will be (5-6) stages and have a round count under 150. \nYou do not have to be a Sportsman’s Club of Franklin County member to shoot the matches. \nMatch fees are $20 for club members; $30 for non-members (Youths under 18 shoot free with a paying adult) \nMatch set up will be the morning of the match starting at 7:00AM; WE NEED HELP SETTING UP! \nRegistration is from 9:00AM through 9:15AM. Shooter’s Meeting will be at 9:15AM with anticipated match start at 9:30AM. \nOne of the scheduled matches will include an IDPA classifier (usually May). \nSportsman’s Club of Franklin County is located at 5827 Maquam Shore Rd; St. Albans Bay\, VT. https://scfcvt.org/ \nIf you have any questions please email reach out via email: club_membership@scfcvt.org \nhttps://www.idpa.com/wp-content/uploads/2026/01/2026-IDPA-Rulebook-2.pdf \nhttps://www.idpa.com/wp-content/uploads/2026/01/2026%20Eq%20Append-2.pdf
URL:https://gunstuff.tv/event/scfc-april-idpa-tier-1-match/
LOCATION:5287 Maquam Shore Road\, St Albans Bay Vermont\, United States
END:VEVENT
END:VCALENDAR