BEGIN:VCALENDAR
VERSION:2.0
PRODID:-//GunStuff TV - ECPv6.15.20//NONSGML v1.0//EN
CALSCALE:GREGORIAN
METHOD:PUBLISH
X-ORIGINAL-URL:https://gunstuff.tv
X-WR-CALDESC:Events for GunStuff TV
REFRESH-INTERVAL;VALUE=DURATION:PT1H
X-Robots-Tag:noindex
X-PUBLISHED-TTL:PT1H
BEGIN:VTIMEZONE
TZID:UTC
BEGIN:STANDARD
TZOFFSETFROM:+0000
TZOFFSETTO:+0000
TZNAME:UTC
DTSTART:20250101T000000
END:STANDARD
END:VTIMEZONE
BEGIN:VEVENT
DTSTART;TZID=UTC:20260424T173000
DTEND;TZID=UTC:20260427T023000
DTSTAMP:20260421T184957
CREATED:20260421T200347Z
LAST-MODIFIED:20260421T200347Z
UID:10008536-1777051800-1777257000@gunstuff.tv
SUMMARY:2026 Alpha Munitions NUT CRUSHER
DESCRIPTION:This match will be a fast paced\, but fair course of fire! It will challenge you in every aspect of precision rifle. From target acquisition\, speed\, accuracy\, and knowing when to slow down and make it count! With that being said we a changing some things up! Come ready for a new twist on the COF. The match will be held at the world renowned north springs shooting range in the high desert of Utah.\nShooters should expect between 20-22 stages and a round count  of roughly 220-250.\nNO REFUNDS \, Spots can be transferred.\nLocation of the Range:\n5245 S 8000 W\nPrice\, Utah 84501\n39.52744690579056\, -110.9628386477742\nMatch Director: Paul Dallin\nFor questions please call or text: 801-358-5296\nEmail: labradorconstruction@msn.com
URL:https://gunstuff.tv/event/2026-alpha-munitions-nut-crusher/
LOCATION:5245 S 8000 W\, Price Utah\, United States
END:VEVENT
END:VCALENDAR