BEGIN:VCALENDAR
VERSION:2.0
PRODID:-//GunStuff TV - ECPv6.15.20//NONSGML v1.0//EN
CALSCALE:GREGORIAN
METHOD:PUBLISH
X-ORIGINAL-URL:https://gunstuff.tv
X-WR-CALDESC:Events for GunStuff TV
REFRESH-INTERVAL;VALUE=DURATION:PT1H
X-Robots-Tag:noindex
X-PUBLISHED-TTL:PT1H
BEGIN:VTIMEZONE
TZID:UTC
BEGIN:STANDARD
TZOFFSETFROM:+0000
TZOFFSETTO:+0000
TZNAME:UTC
DTSTART:20250101T000000
END:STANDARD
END:VTIMEZONE
BEGIN:VEVENT
DTSTART;TZID=UTC:20260425T123000
DTEND;TZID=UTC:20260425T210000
DTSTAMP:20260421T201629
CREATED:20260421T200316Z
LAST-MODIFIED:20260421T200316Z
UID:10008262-1777120200-1777150800@gunstuff.tv
SUMMARY:Pistol Clinic - 25 April 2026
DESCRIPTION:Ideal for those who are new to pistol shooting at OSA\, and great for the seasoned shooter looking for a spring “tune up”.\nThe OSA Pistol Clinic is open to OSA members\, OSA affiliate members and guests.\nThis Clinic is a pre-requisite for newcomers who want to participate in OSA pistol events. We’ll spend the day getting back to basics. We’ll make sure you have a firm understanding of the basic handling drills. You’ll learn or be reminded about how the perfect shot is supposed to feel and have the opportunity to fire many of them. We’ll be teaching towards the “50 Club” and depending on who joins us we are planning to break into 2 relays – those who need to work on basic marksmanship and those who are ready to advance.\nAmmunition must be proven safe in your pistol; you’ll need about 300-400 rounds. Working electronic ear defenders and safety glasses are mandatory. Bring your belt and holster.\nAlso\, make sure you bring adequate food and fluid for the day\, as well as insect repellent and sunscreen. You’ll need a long-sleeved shirt\, slacks\, closed-toe shoes\, and a ballcap or brimmed hat.\nWe’ll start the day with lectures on marksmanship\, handling\, and range commands. If the weather’s nice\, we’ll do this outdoors… bring a lawn/range chair!\nCheck in at the cabin at 0830. You may be required to show your club membership card.\n$75.00 for non-members. $25.00 off for OSA members and $25.00 off for OSA affiliate members. If you’re under 18\, register as a junior.\nIf you haven’t been to an OSA event before\, email lindamilcun@gmail.com for detailed instructions. You must have shooter’s liability insurance to enter our facility; i.e.\, you must be a member of the CSSA\, CCFR\, NFA\, or similar. You must be fluent in English to participate in any OSA event.\nNote that we no longer allow photographs to be taken on MilCun property.
URL:https://gunstuff.tv/event/pistol-clinic-25-april-2026/
LOCATION:5163 County Road 121\, Minden Ontario\, Canada
END:VEVENT
END:VCALENDAR