BEGIN:VCALENDAR
VERSION:2.0
PRODID:-//GunStuff TV - ECPv6.15.20//NONSGML v1.0//EN
CALSCALE:GREGORIAN
METHOD:PUBLISH
X-WR-CALNAME:GunStuff TV
X-ORIGINAL-URL:https://gunstuff.tv
X-WR-CALDESC:Events for GunStuff TV
REFRESH-INTERVAL;VALUE=DURATION:PT1H
X-Robots-Tag:noindex
X-PUBLISHED-TTL:PT1H
BEGIN:VTIMEZONE
TZID:UTC
BEGIN:STANDARD
TZOFFSETFROM:+0000
TZOFFSETTO:+0000
TZNAME:UTC
DTSTART:20250101T000000
END:STANDARD
END:VTIMEZONE
BEGIN:VEVENT
DTSTART;TZID=UTC:20260425T100000
DTEND;TZID=UTC:20260426T003000
DTSTAMP:20260423T152438
CREATED:20260421T200322Z
LAST-MODIFIED:20260421T200322Z
UID:10008308-1777111200-1777163400@gunstuff.tv
SUMMARY:April Outlaw 22 Match
DESCRIPTION:Outlaw 22LR match Standard props and shooting similar to NRL22.  Send payment to 762gnome@gmail.com to get approval to squad.
URL:https://gunstuff.tv/event/april-outlaw-22-match/
LOCATION:5138 Concession 4\, St Anns Ontario\, Canada
END:VEVENT
END:VCALENDAR