BEGIN:VCALENDAR
VERSION:2.0
PRODID:-//GunStuff TV - ECPv6.15.20//NONSGML v1.0//EN
CALSCALE:GREGORIAN
METHOD:PUBLISH
X-ORIGINAL-URL:https://gunstuff.tv
X-WR-CALDESC:Events for GunStuff TV
REFRESH-INTERVAL;VALUE=DURATION:PT1H
X-Robots-Tag:noindex
X-PUBLISHED-TTL:PT1H
BEGIN:VTIMEZONE
TZID:UTC
BEGIN:STANDARD
TZOFFSETFROM:+0000
TZOFFSETTO:+0000
TZNAME:UTC
DTSTART:20250101T000000
END:STANDARD
END:VTIMEZONE
BEGIN:VEVENT
DTSTART;TZID=UTC:20260426T123000
DTEND;TZID=UTC:20260426T200000
DTSTAMP:20260421T172640
CREATED:20260421T200352Z
LAST-MODIFIED:20260421T200352Z
UID:10008585-1777206600-1777233600@gunstuff.tv
SUMMARY:LSSA 3gun April 2026 3 Stage Match
DESCRIPTION:This will be 3 fast moving stages\, all 3 firearms. We will plan on having low to no reset stages.  Plan on 50 rifle\, 50 pistol and 60 shotgun rounds for the match\, but bring more just in case. Come early to help setup. This match is built the morning of\, so changes happen\, bring extra ammo just in case.\nArrive at 8:30 to help setup the match.  We all shoot the match\, so we should all help set it up and put it away.
URL:https://gunstuff.tv/event/lssa-3gun-april-2026-3-stage-match/
LOCATION:5090 Hanthorn Rd.\, Lima OH\, United States
END:VEVENT
END:VCALENDAR