BEGIN:VCALENDAR
VERSION:2.0
PRODID:-//GunStuff TV - ECPv6.15.20//NONSGML v1.0//EN
CALSCALE:GREGORIAN
METHOD:PUBLISH
X-ORIGINAL-URL:https://gunstuff.tv
X-WR-CALDESC:Events for GunStuff TV
REFRESH-INTERVAL;VALUE=DURATION:PT1H
X-Robots-Tag:noindex
X-PUBLISHED-TTL:PT1H
BEGIN:VTIMEZONE
TZID:UTC
BEGIN:STANDARD
TZOFFSETFROM:+0000
TZOFFSETTO:+0000
TZNAME:UTC
DTSTART:20250101T000000
END:STANDARD
END:VTIMEZONE
BEGIN:VEVENT
DTSTART;TZID=UTC:20260425T130000
DTEND;TZID=UTC:20260425T173000
DTSTAMP:20260424T085524
CREATED:20260421T200318Z
LAST-MODIFIED:20260421T200318Z
UID:10008284-1777122000-1777138200@gunstuff.tv
SUMMARY:Lima Sabres Steel Challenge Match - April 25\, 2026
DESCRIPTION:This is a 6 Stage all Classifier match\, open to all Divisions. Max 2 guns per shooter. $15 for the first gun\, $10 for the second. Please register for 2 guns if you wish to shoot 2 guns.  Our objective is to enable the most shooters possible which may require asking for some 2 gun shooters to only shoot 1 gun.  The match director will reach out in the unlikely event this situation develops.  Online match registration will close on Apr 23rd @ 10:00pm.\nIf you have not shot with the Lima Sabres before\, Registration opens at 8am; New Shooter Orientation is held at 8:30am\, followed by a mandatory Safety Briefing at 8:45am; First shots @ 9a.\nIf you do not receive the Safety Briefing you will not shoot.
URL:https://gunstuff.tv/event/lima-sabres-steel-challenge-match-april-25-2026/
LOCATION:5090 E Hanthorn Rd\, Cridersville\, OH\, United States
GEO:40.672435;-84.126166
END:VEVENT
END:VCALENDAR