BEGIN:VCALENDAR
VERSION:2.0
PRODID:-//GunStuff TV - ECPv6.15.20//NONSGML v1.0//EN
CALSCALE:GREGORIAN
METHOD:PUBLISH
X-WR-CALNAME:GunStuff TV
X-ORIGINAL-URL:https://gunstuff.tv
X-WR-CALDESC:Events for GunStuff TV
REFRESH-INTERVAL;VALUE=DURATION:PT1H
X-Robots-Tag:noindex
X-PUBLISHED-TTL:PT1H
BEGIN:VTIMEZONE
TZID:UTC
BEGIN:STANDARD
TZOFFSETFROM:+0000
TZOFFSETTO:+0000
TZNAME:UTC
DTSTART:20250101T000000
END:STANDARD
END:VTIMEZONE
BEGIN:VEVENT
DTSTART;TZID=UTC:20260425T140000
DTEND;TZID=UTC:20260425T193000
DTSTAMP:20260424T054518
CREATED:20260421T200316Z
LAST-MODIFIED:20260421T200316Z
UID:10008264-1777125600-1777145400@gunstuff.tv
SUMMARY:Zoo City Armory Carbine/PCC/2-Gun @CGGR April 25
DESCRIPTION:CGGR Carbine/PCC/2-Gun Match\nDivision’s:\nPCC Open\n223 Open\n308 Open\nAK Open\n223 2-Gun Open\n308 2-Gun Open\nPCC 2-Gun Open\nAK 2-Gun Open
URL:https://gunstuff.tv/event/zoo-city-armory-carbine-pcc-2-gun-cggr-april-25/
LOCATION:5068 U.S. 64\, Franklinville\, NC\, United States
GEO:35.785766;-79.710068
END:VEVENT
END:VCALENDAR