BEGIN:VCALENDAR
VERSION:2.0
PRODID:-//GunStuff TV - ECPv6.15.20//NONSGML v1.0//EN
CALSCALE:GREGORIAN
METHOD:PUBLISH
X-ORIGINAL-URL:https://gunstuff.tv
X-WR-CALDESC:Events for GunStuff TV
REFRESH-INTERVAL;VALUE=DURATION:PT1H
X-Robots-Tag:noindex
X-PUBLISHED-TTL:PT1H
BEGIN:VTIMEZONE
TZID:UTC
BEGIN:STANDARD
TZOFFSETFROM:+0000
TZOFFSETTO:+0000
TZNAME:UTC
DTSTART:20250101T000000
END:STANDARD
END:VTIMEZONE
BEGIN:VEVENT
DTSTART;TZID=UTC:20260411T140000
DTEND;TZID=UTC:20260411T210000
DTSTAMP:20260424T104607
CREATED:20260407T195438Z
LAST-MODIFIED:20260407T195438Z
UID:10007244-1775916000-1775941200@gunstuff.tv
SUMMARY:Zoo City Armory Outlaw Falling Steel @CGGR April 11
DESCRIPTION:This match is an addition to our monthly schedule that will consist of 6 stages with approximately 25 pieces of steel per stage. As a time plus match it’s shoot till you knock all the plates down so be sure to bring your big mags and load them up!\nDivision’s:\nPistol Iron\nPistol Optic\nPCC\nShotgun Open (Load up your tubes or box-fed) **Lead shot only no greater than 1350 fps and shot size #6 and lower**\nRegistration 9:00-9:45 AM\nShooters meeting will be at 9:50 AM on the stages. Rounds down range at 10:00 AM.\nWe do have Ammo for sale.\nRound count: ~150\nIf you have any questions email me at match@zoocityarmory.com
URL:https://gunstuff.tv/event/zoo-city-armory-outlaw-falling-steel-cggr-april-11/
LOCATION:5068 U.S. 64\, Franklinville NC\, United States
END:VEVENT
END:VCALENDAR