BEGIN:VCALENDAR
VERSION:2.0
PRODID:-//GunStuff TV - ECPv6.15.20//NONSGML v1.0//EN
CALSCALE:GREGORIAN
METHOD:PUBLISH
X-WR-CALNAME:GunStuff TV
X-ORIGINAL-URL:https://gunstuff.tv
X-WR-CALDESC:Events for GunStuff TV
REFRESH-INTERVAL;VALUE=DURATION:PT1H
X-Robots-Tag:noindex
X-PUBLISHED-TTL:PT1H
BEGIN:VTIMEZONE
TZID:UTC
BEGIN:STANDARD
TZOFFSETFROM:+0000
TZOFFSETTO:+0000
TZNAME:UTC
DTSTART:20250101T000000
END:STANDARD
END:VTIMEZONE
BEGIN:VEVENT
DTSTART;TZID=UTC:20260411T123000
DTEND;TZID=UTC:20260411T170000
DTSTAMP:20260424T104547
CREATED:20260407T195435Z
LAST-MODIFIED:20260407T195435Z
UID:10007219-1775910600-1775926800@gunstuff.tv
SUMMARY:Southern Games Handgun Championships 2026
DESCRIPTION:Southern Games Handgun Championships 2026 (SGHC)\nThe Southern Games Handgun Championships 2026 promises to be a premier event\, featuring six (6) dynamic and challenging stages designed to test both close-range precision and long-distance accuracy.\nWe invite all practical shooting athletes to participate in strong numbers and compete across the various Divisions and Classes for the prestigious title of *Southern Games Handgun Champion*.\n—\nMatch Information\nStages: 6\nRound Count: 120\nRegistration Fees:\n$350 TTD – Meals included\n$300 TTD – No meals\n$50 TTD – Additional meals\n—\nPrize Structure\nDivision Winners (1st Place Only):\n* Open\n* Optics\n* Production Optics\n* Production\n* Standard\n* PCC\nClass Winners (1st to 3rd Place – A\, B\, and C Classes):\n* Open\n* Optics\n* Production Optics\n* Production\n* Standard\n* PCC\nCategory Winners (1st Place Only):\n* Senior\n* Super Senior\n* Lady\n* Civilian\n* Law Enforcement\n* Military\n—\nImportant Notes:\n* Athletes may compete for only one Category Prize.\n* Athletes competing in two divisions must declare\, prior to the start of the match\, which division will be considered for prizes.\n* Athletes shooting in two divisions must register and be assigned to only one squad.\n—
URL:https://gunstuff.tv/event/southern-games-handgun-championships-2026/
LOCATION:506 STRA Drive\, Cedar Hill Road\, Forres Park Claxton Bay\, United Kingdom
END:VEVENT
END:VCALENDAR