BEGIN:VCALENDAR
VERSION:2.0
PRODID:-//GunStuff TV - ECPv6.15.20//NONSGML v1.0//EN
CALSCALE:GREGORIAN
METHOD:PUBLISH
X-WR-CALNAME:GunStuff TV
X-ORIGINAL-URL:https://gunstuff.tv
X-WR-CALDESC:Events for GunStuff TV
REFRESH-INTERVAL;VALUE=DURATION:PT1H
X-Robots-Tag:noindex
X-PUBLISHED-TTL:PT1H
BEGIN:VTIMEZONE
TZID:UTC
BEGIN:STANDARD
TZOFFSETFROM:+0000
TZOFFSETTO:+0000
TZNAME:UTC
DTSTART:20250101T000000
END:STANDARD
END:VTIMEZONE
BEGIN:VEVENT
DTSTART;TZID=UTC:20260418T153000
DTEND;TZID=UTC:20260418T210000
DTSTAMP:20260424T071815
CREATED:20260414T200230Z
LAST-MODIFIED:20260414T200230Z
UID:10007826-1776526200-1776546000@gunstuff.tv
SUMMARY:PCDHFC Rimfire Brutality - April 18th
DESCRIPTION:PLEASE READ AND UNDERSTAND THE ENTIRE EMAIL. If you have any questions or are not certain contact multigun@pcdhfc.com. If you are deficient in equipment get in touch and we can try to figure out loaner equipment.\nCore components of any brutality stage are designed around running\, crawling\, carrying\, lifting\, dragging\, throwing\, or climbing\, and often some combination of the above combined with testing your marksmanship skills. We encourage everyone to participate but be aware of the physical exertion involved.\nPractice fee is $10. If you are not a PCDHFC member it will be an additional $10 for the day card insurance. CASH on match day only.\nThis will be a 1-Gun or 2-Gun event: Rimfire Rifle and a Pistol if you have one.\nAny rimfire rifles/cartridges are allowed. Pistol calibre rifles (such as lever actions) are allowed but must adhere to the Pistol calibre rules.\nPistol calibers up to 9mm\, 45ACP\, 38SPL\, etc.\nNO CENTERFIRE RIFLE CARTRIDGES\, STEEL CORE\, AP OR LAP\, TRACER\, ETC FOR ANY PLATFORMS.\nIf you are shooting a pistol please bring a holster even if you do not have a holster qualification. It will be used in an administrative carry fashion and helps to speed up the match significantly. If you do not have a holster please contact us as we may have workable spares.\nBrutality stages are shot entirely on steel\, and the required number of impacts are required to progress (ie: the better you shoot the closer to the minimum round count you will be).\nMinimum round count is 150 rounds for rifle and 100 for pistol. It is recommended to bring double the minimum in case of misses. A more exact round count will be provided closer to the match day.\nMatch is held on Range 1 (https://maps.app.goo.gl/74Vw84JAQQvCSDqh7). Parking next to Range3/Traphouse is allowed.\nWe aim to accommodate all shooters but there are some minimum gear requirements:\nHearing protection.\nWraparound and Safety Rated Eye Protection. You need proper eye protection as we shoot steel.\nGloves\, elbow and knee pads are highly recommended.\nChamber flags for rifles\, a holster for your pistol.\nAbility to carry at least 40 rounds of ammunition for pistol and rifle (Suggested but not required you can carry more if you are shooting rifle only.) Magazine pouches or other load bearing equipment are best. Large pockets or a dump pouch work in a pinch).\nActive footwear\, clothing suited for the weather\, and other considerations such as water\, lunch/snacks\, sunscreen\, etc.\nElbow and Knee pads are not required but may be desired.
URL:https://gunstuff.tv/event/pcdhfc-rimfire-brutality-april-18th/
LOCATION:5000 Harper Rd\, Coquitlam BC\, Canada
END:VEVENT
END:VCALENDAR