BEGIN:VCALENDAR
VERSION:2.0
PRODID:-//GunStuff TV - ECPv6.15.20//NONSGML v1.0//EN
CALSCALE:GREGORIAN
METHOD:PUBLISH
X-ORIGINAL-URL:https://gunstuff.tv
X-WR-CALDESC:Events for GunStuff TV
REFRESH-INTERVAL;VALUE=DURATION:PT1H
X-Robots-Tag:noindex
X-PUBLISHED-TTL:PT1H
BEGIN:VTIMEZONE
TZID:UTC
BEGIN:STANDARD
TZOFFSETFROM:+0000
TZOFFSETTO:+0000
TZNAME:UTC
DTSTART:20250101T000000
END:STANDARD
END:VTIMEZONE
BEGIN:VEVENT
DTSTART;TZID=UTC:20260425T123000
DTEND;TZID=UTC:20260426T003000
DTSTAMP:20260421T171656
CREATED:20260421T200342Z
LAST-MODIFIED:20260421T200342Z
UID:10008494-1777120200-1777163400@gunstuff.tv
SUMMARY:2DA FECHA TIRO PRACTICO WSC 2026 by GUNS EDC PR
DESCRIPTION:6 canchas\n150 disparos\n$40.00 REGULAR\n$30 SOCIOS WILLIAMS SHOOTING\nSPONSORED BY:\n•ARMERIA WILLIAMS\n•GUNS EDC PR\n•WILLIAMS MUNITIONS
URL:https://gunstuff.tv/event/2da-fecha-tiro-practico-wsc-2026-by-guns-edc-pr/
LOCATION:500\, Ponce Puerto Rico
END:VEVENT
END:VCALENDAR