BEGIN:VCALENDAR
VERSION:2.0
PRODID:-//GunStuff TV - ECPv6.15.20//NONSGML v1.0//EN
CALSCALE:GREGORIAN
METHOD:PUBLISH
X-WR-CALNAME:GunStuff TV
X-ORIGINAL-URL:https://gunstuff.tv
X-WR-CALDESC:Events for GunStuff TV
REFRESH-INTERVAL;VALUE=DURATION:PT1H
X-Robots-Tag:noindex
X-PUBLISHED-TTL:PT1H
BEGIN:VTIMEZONE
TZID:UTC
BEGIN:STANDARD
TZOFFSETFROM:+0000
TZOFFSETTO:+0000
TZNAME:UTC
DTSTART:20250101T000000
END:STANDARD
END:VTIMEZONE
BEGIN:VEVENT
DTSTART;TZID=UTC:20260426T130000
DTEND;TZID=UTC:20260426T190000
DTSTAMP:20260421T173807
CREATED:20260421T200346Z
LAST-MODIFIED:20260421T200346Z
UID:10008525-1777208400-1777230000@gunstuff.tv
SUMMARY:Northwest Minnesota Rimfire April 2026 Match
DESCRIPTION:NRL22 COF and Precision Rimfire Outlaws Series\n$20 per shooter\, young guns are free.  $10 per shooter with a Rush Lake Range membership.  Cash or Venmo the day of the match.\n7:30am – Match Set-Up.  Please attend if you are able.\n8:00am – Check-In/Sight In\n8:45am – Stage/Safety Brief\n9:00am – Match Start\nIf you have not already done so\, please renew or sign up for your membership!\nNRL22 and P.R.O. scores will be submitted.\nRemember to register with NRL22 or renew your NRL22 membership for the 2027 season at https://nrl22.com/product/2025-nrl22-membership/ to join the series!  Membership is not required to shoot the match.\nRegister for Precision Rimfire Outlaws at https://www.precisionrimfireoutlaws.com/member-areas. The membership is FREE!  All scores will be submitted to P.R.O.\, so definitely sign-up!  They only count if you sign up.\nThere will be a total of 5 NRL22 stages plus possible bonus stages that will count for both NRL22 and PRO.  The number of or inclusion of bonus stages will depend on the weather.\nEmail Suzie with questions at northwestmn.22lr@gmail.com
URL:https://gunstuff.tv/event/northwest-minnesota-rimfire-april-2026-match/
LOCATION:49899 Co Hwy 54\, New York Mills MN\, United States
END:VEVENT
END:VCALENDAR