BEGIN:VCALENDAR
VERSION:2.0
PRODID:-//GunStuff TV - ECPv6.15.20//NONSGML v1.0//EN
CALSCALE:GREGORIAN
METHOD:PUBLISH
X-WR-CALNAME:GunStuff TV
X-ORIGINAL-URL:https://gunstuff.tv
X-WR-CALDESC:Events for GunStuff TV
REFRESH-INTERVAL;VALUE=DURATION:PT1H
X-Robots-Tag:noindex
X-PUBLISHED-TTL:PT1H
BEGIN:VTIMEZONE
TZID:UTC
BEGIN:STANDARD
TZOFFSETFROM:+0000
TZOFFSETTO:+0000
TZNAME:UTC
DTSTART:20250101T000000
END:STANDARD
END:VTIMEZONE
BEGIN:VEVENT
DTSTART;TZID=UTC:20260418T130000
DTEND;TZID=UTC:20260418T200000
DTSTAMP:20260421T201726
CREATED:20260414T200226Z
LAST-MODIFIED:20260414T200226Z
UID:10007785-1776517200-1776542400@gunstuff.tv
SUMMARY:OPEN RANGE DAY\, OUT TO 800 YARDS!
DESCRIPTION:Come see the NEW TARGET LAYOUT for the 2026 season\, with more targets!\n$25 cash on site buys you a day of target practice from covered positions on steel targets from 100-800 yards! Come break in your rifle for the competition season\, or come hit targets at distances you’ve never attempted and discover the true potential of your rifle system!\nNever tried to shoot this far? We have experienced volunteers on site that can assist you!\nLunch is included (a small donation is appreciated). If you want anything other than water\, bring it with you.\nYou may bring more than 1 rifle\, but we ask that you bring no more than 2 rifles at a time into the shoot house.\nEye & ear protection is required.\nDirections: the LEEK shoot house is located on the SOUTH side of PA-244\, about 1/2 mile east of the State Fish Hatchery. Look for orange cones or flags that mark the entrance to the grass parking lot. If your GPS wants you to turn at the LEEK sign and go up a steep gravel driveway\, look across the street for the grass parking lot.
URL:https://gunstuff.tv/event/open-range-day-out-to-800-yards/
LOCATION:497 PA-244\, Oswayo PA\, United States
END:VEVENT
END:VCALENDAR