BEGIN:VCALENDAR
VERSION:2.0
PRODID:-//GunStuff TV - ECPv6.15.20//NONSGML v1.0//EN
CALSCALE:GREGORIAN
METHOD:PUBLISH
X-WR-CALNAME:GunStuff TV
X-ORIGINAL-URL:https://gunstuff.tv
X-WR-CALDESC:Events for GunStuff TV
REFRESH-INTERVAL;VALUE=DURATION:PT1H
X-Robots-Tag:noindex
X-PUBLISHED-TTL:PT1H
BEGIN:VTIMEZONE
TZID:UTC
BEGIN:STANDARD
TZOFFSETFROM:+0000
TZOFFSETTO:+0000
TZNAME:UTC
DTSTART:20250101T000000
END:STANDARD
END:VTIMEZONE
BEGIN:VEVENT
DTSTART;TZID=UTC:20260424T130000
DTEND;TZID=UTC:20260425T203000
DTSTAMP:20260423T032118
CREATED:20260421T200321Z
LAST-MODIFIED:20260421T200321Z
UID:10008296-1777035600-1777149000@gunstuff.tv
SUMMARY:GRGC 2026 IDPA - Spring Challenge IV
DESCRIPTION:STAGE COUNT:  8\nROUND COUNT: 122 minimum (bring extra rounds just in case)\nDIVISIONS: CDP\, ESP\, SSP\, CCP\, REV\, CO\, MRC\, PCC/Conversion Kits “NO OIC” Firearms!\nMATCH FEES: $75.00 Please enter your name in the message section of your EMT: and send to idpa-rich@protonmail.com\nSQUADDING: Squadding will be enabled once fees have been received\n!!!STAFF SHOOT FOR FREE!!!\nLADIES & JUNIORS: Shoot half price!\nNOTE: Junior members must have a parent or guardian present with the shooter at every stage\nMETALS: Combined Division Metals to be Awarded\n1-5 shooters in any division = 1st award – 1-6 = 1st & 2nd etc.\nFRIDAY SHOOT: CHECK-IN: April/24th/2026\, @ 8:00-8:30AM\nSQUADS TIMES 9:00AM\nSATURDAY SHOOT: CHECK-IN: April/25th/2026\, @ 8:00-8:30AM & 12:30PM\nSQUAD TIMES 9:00AM & 1:00PM\nFirst shots @ FRI – 9:00AM AND SAT – 9:00AM/1:00PM\nLUNCH & DRINKS: PROVIDED FOR STAFF ONLY\nCOMPETITORS: Bring your own lunch\n– Water will be available on range 2 during match\nREGISTRATIONS:\n– All registrations become final on March/24/2026. REFUNDS WILL NOT be offered\n– Withdrawal requests prior to March/24/2026 will be subjected to a $10.00 Admin processing fee\n– Division & other changes WILL NOT be permitted after March/24/2026\n– All competitors must adhere to the current GRGC range & IDPA rules\nIDPA MEMBERS: All competitors must be current members in good standing to qualify for awards\nGUESTS: Are ineligible for awards and shoot for No Score\nEQUIPMENT:\n– All Equipment MUST meet IDPA requirements or be ineligible for awards and shoot for No Score\nREQUIREMENTS:\n– Holster Qualification; IPSC\, CDPA\, NSCI\, NSO\, CLO\n– NO APPENDIX HOLSTERS (Unless preapproved by MD)\n– Pistol Holsters need to have at least 1 level of retention.\n– PCC/MRC must have chamber flag\n– NO HIGH MUZZLE RELOADS (Revolvers excluded)\n– NO GROUND STRIKES\n– NO Race Gun Holsters\n****Walk-On’s WILL NOT**** be accepted.\nTO REGISTER:  FILL IN THE FORM BELOW\, CLICK REGISTER\, THEN EMAIL PAYMENT TO idpa-rich@protonmail.com\nIDPA & Match Questions: send to: IDPA.INFO@PROTON.ME
URL:https://gunstuff.tv/event/grgc-2026-idpa-spring-challenge-iv/
LOCATION:4877 Wellington County Rd 29\,\, Eden Mills ONTARIO\, Canada
END:VEVENT
END:VCALENDAR