BEGIN:VCALENDAR
VERSION:2.0
PRODID:-//GunStuff TV - ECPv6.15.20//NONSGML v1.0//EN
CALSCALE:GREGORIAN
METHOD:PUBLISH
X-ORIGINAL-URL:https://gunstuff.tv
X-WR-CALDESC:Events for GunStuff TV
REFRESH-INTERVAL;VALUE=DURATION:PT1H
X-Robots-Tag:noindex
X-PUBLISHED-TTL:PT1H
BEGIN:VTIMEZONE
TZID:UTC
BEGIN:STANDARD
TZOFFSETFROM:+0000
TZOFFSETTO:+0000
TZNAME:UTC
DTSTART:20250101T000000
END:STANDARD
END:VTIMEZONE
BEGIN:VEVENT
DTSTART;TZID=UTC:20260411T123000
DTEND;TZID=UTC:20260411T210000
DTSTAMP:20260424T104547
CREATED:20260407T195434Z
LAST-MODIFIED:20260407T195434Z
UID:10007203-1775910600-1775941200@gunstuff.tv
SUMMARY:PRP Open Range April 11th 2026****Pay Deposit Only at Registration
DESCRIPTION:Hours of Operation – 8:30AM to 12:30PM and 1:00 PM– 5:00PM (PLEASE DO NOT ARRIVE MORE THAN 15 MINUTES PRIOR)– We will run two squads\, squad 1 will be the morning squad from 8:30AM-12:30PM\, and squad 2 will be the afternoon squad from 1:00PM to 5:00PM.  This will allow for us continue to practice “social distancing” while also allowing our RO(s) to manage the firing line and help in spotting.  We will run 12 shooters in the morning\, and 12 in the afternoon.  PLEASE READ – IF YOU WANT TO SHOOT IN THE AM – SQUAD YOURSELF IN SQUAD 1.  IF YOU WANT TO SHOOT IN THE AFTERNOON\, SQUAD YOURSELF IN SQUAD 2.\nShooting Stages – Shooters will have the ability to engage targets from 300 to 1\,135 yards from stages on the firing line while in the prone position.  In addition\, shooters will also be allowed to practice the PRS Barricade Stage off our Barricade system at 400 yards\, as well as some of the other Range Stages/Props.  100 yard zero range will be available as needed.  We will have backer boards up\, bring your own stick on or staple targets if desired.\nNew Shooters: Shooters new to the range will be required to prove themselves and their gear capable and accurate at targets ranging from 300-600 yards BEFORE being allowed to engage targets at distances beyond.\nPayment – Cost for either session – $65.  A $15 non-refundable deposit at time of registration required.  Balance due upon arrival to range – cash only.  If a shooter is unable to make the date\, shooter has the ability to sell their slot to another shooter – PRP\, Inc. needs to be notified 24 hours in advance of range day of any changes to roster.\nRecommended Gear – rangefinder\, chamber flag (if you do not have a chamber flag PRP has them available for $3/ea. onsite) spotting scope\, shooting mat\, folding chair\, bug spray/sunscreen\, inclement weather gear\, etc.  Hearing protection is required\, eye protection is recommended.
URL:https://gunstuff.tv/event/prp-open-range-april-11th-2026pay-deposit-only-at-registration/
LOCATION:4868 Virgil H Goode Highway\, Rocky Mount Virginia\, United States
END:VEVENT
END:VCALENDAR