BEGIN:VCALENDAR
VERSION:2.0
PRODID:-//GunStuff TV - ECPv6.15.20//NONSGML v1.0//EN
CALSCALE:GREGORIAN
METHOD:PUBLISH
X-WR-CALNAME:GunStuff TV
X-ORIGINAL-URL:https://gunstuff.tv
X-WR-CALDESC:Events for GunStuff TV
REFRESH-INTERVAL;VALUE=DURATION:PT1H
X-Robots-Tag:noindex
X-PUBLISHED-TTL:PT1H
BEGIN:VTIMEZONE
TZID:UTC
BEGIN:STANDARD
TZOFFSETFROM:+0000
TZOFFSETTO:+0000
TZNAME:UTC
DTSTART:20250101T000000
END:STANDARD
END:VTIMEZONE
BEGIN:VEVENT
DTSTART;TZID=UTC:20260411T120000
DTEND;TZID=UTC:20260411T190000
DTSTAMP:20260424T140516
CREATED:20260407T195437Z
LAST-MODIFIED:20260407T195437Z
UID:10007232-1775908800-1775934000@gunstuff.tv
SUMMARY:Ankeny Ikes carbine match April 11\, 2026
DESCRIPTION:Ankney Ikes will be hosting a monthly carbine match  April 11\, 2026.  We will shoot 4 stages with PCC\, Practical and Competition carbine divisions.   Setup will begin at 8:00am and match will start at 9:00am.
URL:https://gunstuff.tv/event/ankeny-ikes-carbine-match-april-11-2026/
LOCATION:4857 NE 110th Ave\, Elkhart IA\, United States
END:VEVENT
END:VCALENDAR