BEGIN:VCALENDAR
VERSION:2.0
PRODID:-//GunStuff TV - ECPv6.15.20//NONSGML v1.0//EN
CALSCALE:GREGORIAN
METHOD:PUBLISH
X-WR-CALNAME:GunStuff TV
X-ORIGINAL-URL:https://gunstuff.tv
X-WR-CALDESC:Events for GunStuff TV
REFRESH-INTERVAL;VALUE=DURATION:PT1H
X-Robots-Tag:noindex
X-PUBLISHED-TTL:PT1H
BEGIN:VTIMEZONE
TZID:UTC
BEGIN:STANDARD
TZOFFSETFROM:+0000
TZOFFSETTO:+0000
TZNAME:UTC
DTSTART:20250101T000000
END:STANDARD
END:VTIMEZONE
BEGIN:VEVENT
DTSTART;TZID=UTC:20260414T220000
DTEND;TZID=UTC:20260415T010000
DTSTAMP:20260424T083715
CREATED:20260414T200155Z
LAST-MODIFIED:20260414T200155Z
UID:10007506-1776204000-1776214800@gunstuff.tv
SUMMARY:GPSL USPSA 4-14-26
DESCRIPTION:USPSA Level 1 Match at Freedom Shooting Center\, formerly Stoddard’s Range & Guns\, 485 Bishop St\, NW\, Atlanta GA\nALL MATCH REGISTRATION MUST BE DONE ONLINE.\nALL MATCH FEES MUST BE PAID ONLINE!\nIf you are a NEW shooter with GPSL\, please plan to be at the range at 6pm for a new shooters briefing.\nCheck-in starts at 6:00 pm\, first shot at 7 pm\, finishing around 9 pm.\nTypically 4 stages\, 60-100 rounds.\nPayment can be made online –\nMatch Fee – $25\nEmail gpslga01@gmail.com if you have any questions.\nWithdrawals after noon on match day are not subject to refunds.
URL:https://gunstuff.tv/event/gpsl-uspsa-4-14-26/
LOCATION:485 Bishop St. NW\, Atlanta\, GA\, United States
GEO:33.844371;-84.47405
END:VEVENT
END:VCALENDAR