BEGIN:VCALENDAR
VERSION:2.0
PRODID:-//GunStuff TV - ECPv6.15.20//NONSGML v1.0//EN
CALSCALE:GREGORIAN
METHOD:PUBLISH
X-WR-CALNAME:GunStuff TV
X-ORIGINAL-URL:https://gunstuff.tv
X-WR-CALDESC:Events for GunStuff TV
REFRESH-INTERVAL;VALUE=DURATION:PT1H
X-Robots-Tag:noindex
X-PUBLISHED-TTL:PT1H
BEGIN:VTIMEZONE
TZID:UTC
BEGIN:STANDARD
TZOFFSETFROM:+0000
TZOFFSETTO:+0000
TZNAME:UTC
DTSTART:20250101T000000
END:STANDARD
END:VTIMEZONE
BEGIN:VEVENT
DTSTART;TZID=UTC:20260418T130000
DTEND;TZID=UTC:20260418T150000
DTSTAMP:20260419T062423
CREATED:20260414T200207Z
LAST-MODIFIED:20260414T200207Z
UID:10007631-1776517200-1776524400@gunstuff.tv
SUMMARY:Volusia-Saturday Mannys action steel April 18
DESCRIPTION:6 exciting action steel stages\,\nSquad size is Limited\, if you shoot 2 guns register twice\, 9 am start time\,\nVolusia county gun club members have a $5 discount
URL:https://gunstuff.tv/event/volusia-saturday-mannys-action-steel-april-18/
LOCATION:4845 Fl-44\, New Smyrna Beach\, FL\, United States
GEO:28.951931;-81.033705
END:VEVENT
BEGIN:VEVENT
DTSTART;TZID=UTC:20260415T130000
DTEND;TZID=UTC:20260415T150000
DTSTAMP:20260419T062423
CREATED:20260414T200156Z
LAST-MODIFIED:20260414T200156Z
UID:10007519-1776258000-1776265200@gunstuff.tv
SUMMARY:Volusia-Wednesday Mannys action steel April 15
DESCRIPTION:6 exciting action steel stages\,\nSquad size is Limited\, if you shoot 2 guns register twice\, 9 am start time\,\nVolusia county gun club members have a $5 discount
URL:https://gunstuff.tv/event/volusia-wednesday-mannys-action-steel-april-15/
LOCATION:4845 Fl-44\, New Smyrna Beach\, FL\, United States
GEO:28.951931;-81.033705
END:VEVENT
BEGIN:VEVENT
DTSTART;TZID=UTC:20260408T130000
DTEND;TZID=UTC:20260408T150000
DTSTAMP:20260419T062423
CREATED:20260407T195404Z
LAST-MODIFIED:20260407T195404Z
UID:10006920-1775653200-1775660400@gunstuff.tv
SUMMARY:Volusia-Wednesday Mannys action steel April 8
DESCRIPTION:6 exciting action steel stages\,\nSquad size is Limited\, if you shoot 2 guns register twice\, 9 am start time\,\nVolusia county gun club members have a $5 discount
URL:https://gunstuff.tv/event/volusia-wednesday-mannys-action-steel-april-8/
LOCATION:4845 Fl-44\, New Smyrna Beach\, FL\, United States
GEO:28.951931;-81.033705
END:VEVENT
END:VCALENDAR