BEGIN:VCALENDAR
VERSION:2.0
PRODID:-//GunStuff TV - ECPv6.15.20//NONSGML v1.0//EN
CALSCALE:GREGORIAN
METHOD:PUBLISH
X-ORIGINAL-URL:https://gunstuff.tv
X-WR-CALDESC:Events for GunStuff TV
REFRESH-INTERVAL;VALUE=DURATION:PT1H
X-Robots-Tag:noindex
X-PUBLISHED-TTL:PT1H
BEGIN:VTIMEZONE
TZID:UTC
BEGIN:STANDARD
TZOFFSETFROM:+0000
TZOFFSETTO:+0000
TZNAME:UTC
DTSTART:20250101T000000
END:STANDARD
END:VTIMEZONE
BEGIN:VEVENT
DTSTART;TZID=UTC:20260425T120000
DTEND;TZID=UTC:20260425T210000
DTSTAMP:20260424T085457
CREATED:20260421T200322Z
LAST-MODIFIED:20260421T200322Z
UID:10008307-1777118400-1777150800@gunstuff.tv
SUMMARY:Volusia County Gun Club  PRS Regional Qualifier Match
DESCRIPTION:PRS Regional Match\nrounds 90-100\nstages 9-10\nranges out to 900yrds.\nSnacks will be provided as well as water.  It is recommended to bring some fluids with you especially in the warmer months.  We welcome shooters of all levels\, if you’re a newer shooter feel free to reach out for things you may need assistance with via email. This is a PRS style shooting format\, We use all PRS Regional rules at this event.  Hope to see you on the range.\nRefunds are available up to one week before match. With the service fee of $2.77 from stripe removed. If you need to cancel the week of the match ( up to 2 days before match) you can sell your spot to another or contact me and we will transfer to the next match. 2 days before the match there will be no refunds at all.\nMatch fee is $85\nThere is a train up day the friday before the match for $50 to anyone that wants to come. All props are open to shoot off of and all distances out to near 900yrds
URL:https://gunstuff.tv/event/volusia-county-gun-club-prs-regional-qualifier-match/
LOCATION:4845 E.SR 44\, 2601 Old Smyrna Trl\, New Smyrna Beach\, FL\, United States
GEO:29.061595;-80.980027
X-APPLE-STRUCTURED-LOCATION;VALUE=URI;X-ADDRESS=4845 E.SR 44 2601 Old Smyrna Trl New Smyrna Beach FL United States;X-APPLE-RADIUS=500;X-TITLE=2601 Old Smyrna Trl:geo:-80.980027,29.061595
END:VEVENT
END:VCALENDAR