BEGIN:VCALENDAR
VERSION:2.0
PRODID:-//GunStuff TV - ECPv6.15.20//NONSGML v1.0//EN
CALSCALE:GREGORIAN
METHOD:PUBLISH
X-WR-CALNAME:GunStuff TV
X-ORIGINAL-URL:https://gunstuff.tv
X-WR-CALDESC:Events for GunStuff TV
REFRESH-INTERVAL;VALUE=DURATION:PT1H
X-Robots-Tag:noindex
X-PUBLISHED-TTL:PT1H
BEGIN:VTIMEZONE
TZID:UTC
BEGIN:STANDARD
TZOFFSETFROM:+0000
TZOFFSETTO:+0000
TZNAME:UTC
DTSTART:20250101T000000
END:STANDARD
END:VTIMEZONE
BEGIN:VEVENT
DTSTART;TZID=UTC:20260418T160000
DTEND;TZID=UTC:20260418T210000
DTSTAMP:20260424T071759
CREATED:20260414T200214Z
LAST-MODIFIED:20260414T200214Z
UID:10007679-1776528000-1776546000@gunstuff.tv
SUMMARY:NCRGC NRL22 and PRO Series 202604
DESCRIPTION:Northern Colorado Rod & Gun Club (NCRGC) hosts monthly NRL22 and PRO Series matches on the 3rd Saturday of the month. Participants must pre-register\, pay ($15)\, and squad using Practiscore. NCRGC members can receive $5 back at registration. We have seven stages total (five for NRL22 and seven for PRO Series). WINTER HOURS (October – April): Setup at 8:30 am\, check in/sight in at 9 am\, match starts at 10 am. New shooters must arrive at least 30 min prior to match start for safety briefing. Please familiarize yourself with the match and safety rules (ncrgc.org) and contact the Match Director if you have any questions (nrl22@ncrgc.org or proseries@ncrgc.org). Please follow us on Facebook for updates (facebook.com/ncrgc.org). See you at the match!
URL:https://gunstuff.tv/event/ncrgc-nrl22-and-pro-series-202604/
LOCATION:4809 West CR 72\, La Porte\, CO\, United States
GEO:40.63847;-105.14425
END:VEVENT
END:VCALENDAR