BEGIN:VCALENDAR
VERSION:2.0
PRODID:-//GunStuff TV - ECPv6.15.20//NONSGML v1.0//EN
CALSCALE:GREGORIAN
METHOD:PUBLISH
X-WR-CALNAME:GunStuff TV
X-ORIGINAL-URL:https://gunstuff.tv
X-WR-CALDESC:Events for GunStuff TV
REFRESH-INTERVAL;VALUE=DURATION:PT1H
X-Robots-Tag:noindex
X-PUBLISHED-TTL:PT1H
BEGIN:VTIMEZONE
TZID:UTC
BEGIN:STANDARD
TZOFFSETFROM:+0000
TZOFFSETTO:+0000
TZNAME:UTC
DTSTART:20250101T000000
END:STANDARD
END:VTIMEZONE
BEGIN:VEVENT
DTSTART;TZID=UTC:20260418T123000
DTEND;TZID=UTC:20260418T170000
DTSTAMP:20260424T071712
CREATED:20260414T200209Z
LAST-MODIFIED:20260414T200209Z
UID:10007643-1776515400-1776531600@gunstuff.tv
SUMMARY:Richmond Boro Gun Club April Steel Challenge Match
DESCRIPTION:Welcome to Richmond Boro Gun Club’s April Steel Challenge match. There will be 3 classifier stages. Maximum of 2 guns. Only Richmond Boro Gun Club members will be approved for the first 24 hrs after registration opens. Please arrive before 0800 for registration followed by Shooter briefing at 0815 with 0830 hammer down. If you are a new shooter you must check in by 0800 for new shooter briefing. If you are unable to make the match after registering\, please withdraw so another shooter can participate and avoid being waitlisted for future matches.
URL:https://gunstuff.tv/event/richmond-boro-gun-club-april-steel-challenge-match/
LOCATION:4775 Arthur Kill Road\, Staten Island\, NY\, United States
GEO:40.623632;-74.093323
END:VEVENT
END:VCALENDAR