BEGIN:VCALENDAR
VERSION:2.0
PRODID:-//GunStuff TV - ECPv6.15.20//NONSGML v1.0//EN
CALSCALE:GREGORIAN
METHOD:PUBLISH
X-ORIGINAL-URL:https://gunstuff.tv
X-WR-CALDESC:Events for GunStuff TV
REFRESH-INTERVAL;VALUE=DURATION:PT1H
X-Robots-Tag:noindex
X-PUBLISHED-TTL:PT1H
BEGIN:VTIMEZONE
TZID:UTC
BEGIN:STANDARD
TZOFFSETFROM:+0000
TZOFFSETTO:+0000
TZNAME:UTC
DTSTART:20250101T000000
END:STANDARD
END:VTIMEZONE
BEGIN:VEVENT
DTSTART;TZID=UTC:20260423T210000
DTEND;TZID=UTC:20260424T000000
DTSTAMP:20260422T222652
CREATED:20260421T200311Z
LAST-MODIFIED:20260421T200311Z
UID:10008219-1776978000-1776988800@gunstuff.tv
SUMMARY:OCSC IDPA practice 4/23/26
DESCRIPTION:Outdoor practice from 5PM till Dusk\nCost is $5 for Members and $10 for non-members.   *NO SIG P320 FIREARMS ALLOWED!*\nPlease show up at 5pm to help setup and teardown\, the more people who help the more shooting we can do!\nPay cash at the practice
URL:https://gunstuff.tv/event/ocsc-idpa-practice-4-23-26/
LOCATION:4770 Waterford Rd\, Clarkston\, MI\, United States
GEO:42.73443;-83.420585
END:VEVENT
END:VCALENDAR