BEGIN:VCALENDAR
VERSION:2.0
PRODID:-//GunStuff TV - ECPv6.15.20//NONSGML v1.0//EN
CALSCALE:GREGORIAN
METHOD:PUBLISH
X-WR-CALNAME:GunStuff TV
X-ORIGINAL-URL:https://gunstuff.tv
X-WR-CALDESC:Events for GunStuff TV
REFRESH-INTERVAL;VALUE=DURATION:PT1H
X-Robots-Tag:noindex
X-PUBLISHED-TTL:PT1H
BEGIN:VTIMEZONE
TZID:UTC
BEGIN:STANDARD
TZOFFSETFROM:+0000
TZOFFSETTO:+0000
TZNAME:UTC
DTSTART:20250101T000000
END:STANDARD
END:VTIMEZONE
BEGIN:VEVENT
DTSTART;TZID=UTC:20260423T230000
DTEND;TZID=UTC:20260424T030000
DTSTAMP:20260422T150800
CREATED:20260421T200308Z
LAST-MODIFIED:20260421T200308Z
UID:10008193-1776985200-1776999600@gunstuff.tv
SUMMARY:DCF WEST BenchRest 22 Rimfire Match 04-23-2026
DESCRIPTION:Indoor steel match engaging targets at 25\, 50\, 75\, and 100 yds from the benchrest position with a 22 Rimfire Rifle.\nCopy and paste the link to view match flyer>\nhttp://davistraining.biz/matches/DCF_WEST_Matches.pdf
URL:https://gunstuff.tv/event/dcf-west-benchrest-22-rimfire-match-04-23-2026/
LOCATION:4750 Peace Palace Pt\, Colorado City\, CO\, United States
GEO:37.94411;-104.84545
END:VEVENT
END:VCALENDAR