BEGIN:VCALENDAR
VERSION:2.0
PRODID:-//GunStuff TV - ECPv6.15.20//NONSGML v1.0//EN
CALSCALE:GREGORIAN
METHOD:PUBLISH
X-ORIGINAL-URL:https://gunstuff.tv
X-WR-CALDESC:Events for GunStuff TV
REFRESH-INTERVAL;VALUE=DURATION:PT1H
X-Robots-Tag:noindex
X-PUBLISHED-TTL:PT1H
BEGIN:VTIMEZONE
TZID:UTC
BEGIN:STANDARD
TZOFFSETFROM:+0000
TZOFFSETTO:+0000
TZNAME:UTC
DTSTART:20250101T000000
END:STANDARD
END:VTIMEZONE
BEGIN:VEVENT
DTSTART;TZID=UTC:20260425T130000
DTEND;TZID=UTC:20260425T190000
DTSTAMP:20260424T084754
CREATED:20260421T200332Z
LAST-MODIFIED:20260421T200332Z
UID:10008400-1777122000-1777143600@gunstuff.tv
SUMMARY:BSC IPSC PCC/Mini-Rifle April 2026
DESCRIPTION:6 Stages following the IPSC 3/2/1 format. 110 round maximum.\nRegistration opens at 9am and closes at 9:45am. First shots at 10am.
URL:https://gunstuff.tv/event/bsc-ipsc-pcc-mini-rifle-april-2026/
LOCATION:475 Monroe St\, Brooklyn MI\, United States
END:VEVENT
END:VCALENDAR